BEGIN:VCALENDAR
VERSION:2.0
PRODID:-//Sager Classical Academy - ECPv6.15.20//NONSGML v1.0//EN
CALSCALE:GREGORIAN
METHOD:PUBLISH
X-ORIGINAL-URL:https://sageracademy.com
X-WR-CALDESC:Events for Sager Classical Academy
REFRESH-INTERVAL;VALUE=DURATION:PT1H
X-Robots-Tag:noindex
X-PUBLISHED-TTL:PT1H
BEGIN:VTIMEZONE
TZID:America/Chicago
BEGIN:DAYLIGHT
TZOFFSETFROM:-0600
TZOFFSETTO:-0500
TZNAME:CDT
DTSTART:20250309T080000
END:DAYLIGHT
BEGIN:STANDARD
TZOFFSETFROM:-0500
TZOFFSETTO:-0600
TZNAME:CST
DTSTART:20251102T070000
END:STANDARD
BEGIN:DAYLIGHT
TZOFFSETFROM:-0600
TZOFFSETTO:-0500
TZNAME:CDT
DTSTART:20260308T080000
END:DAYLIGHT
BEGIN:STANDARD
TZOFFSETFROM:-0500
TZOFFSETTO:-0600
TZNAME:CST
DTSTART:20261101T070000
END:STANDARD
BEGIN:DAYLIGHT
TZOFFSETFROM:-0600
TZOFFSETTO:-0500
TZNAME:CDT
DTSTART:20270314T080000
END:DAYLIGHT
BEGIN:STANDARD
TZOFFSETFROM:-0500
TZOFFSETTO:-0600
TZNAME:CST
DTSTART:20271107T070000
END:STANDARD
END:VTIMEZONE
BEGIN:VEVENT
DTSTART;TZID=America/Chicago:20260311T080000
DTEND;TZID=America/Chicago:20260311T093000
DTSTAMP:20260422T172233
CREATED:20250528T190132Z
LAST-MODIFIED:20250528T190135Z
UID:10000917-1773216000-1773221400@sageracademy.com
SUMMARY:PreK & Kindergarten Preview @CCF
DESCRIPTION:
URL:https://sageracademy.com/event/prek-kindergarten-preview-ccf-2/
END:VEVENT
BEGIN:VEVENT
DTSTART;TZID=America/Chicago:20260312T000000
DTEND;TZID=America/Chicago:20260312T235959
DTSTAMP:20260422T172234
CREATED:20250523T162008Z
LAST-MODIFIED:20250523T162010Z
UID:10000724-1773273600-1773359999@sageracademy.com
SUMMARY:Lower School Spirit Day
DESCRIPTION:
URL:https://sageracademy.com/event/lower-school-spirit-day/2026-03-12/
END:VEVENT
BEGIN:VEVENT
DTSTART;TZID=America/Chicago:20260312T080000
DTEND;TZID=America/Chicago:20260312T082000
DTSTAMP:20260422T172234
CREATED:20250523T163011Z
LAST-MODIFIED:20250805T143016Z
UID:10000972-1773302400-1773303600@sageracademy.com
SUMMARY:Upper School Parent Chapel @new SCA US campus
DESCRIPTION:At our new SCA Upper School campus: 1405 W Jefferson\, Siloam Springs
URL:https://sageracademy.com/event/upper-school-parent-chapel-new-sca-us-campus/2026-03-12/
END:VEVENT
BEGIN:VEVENT
DTSTART;TZID=America/Chicago:20260313T000000
DTEND;TZID=America/Chicago:20260313T235959
DTSTAMP:20260422T172234
CREATED:20250523T162141Z
LAST-MODIFIED:20250523T162143Z
UID:10000762-1773360000-1773446399@sageracademy.com
SUMMARY:Upper School Spirit Day
DESCRIPTION:
URL:https://sageracademy.com/event/upper-school-spirit-day/2026-03-13/
END:VEVENT
BEGIN:VEVENT
DTSTART;TZID=America/Chicago:20260319T000000
DTEND;TZID=America/Chicago:20260319T235959
DTSTAMP:20260422T172234
CREATED:20250523T162008Z
LAST-MODIFIED:20250523T162010Z
UID:10000725-1773878400-1773964799@sageracademy.com
SUMMARY:Lower School Spirit Day
DESCRIPTION:
URL:https://sageracademy.com/event/lower-school-spirit-day/2026-03-19/
END:VEVENT
BEGIN:VEVENT
DTSTART;TZID=America/Chicago:20260319T080000
DTEND;TZID=America/Chicago:20260319T082000
DTSTAMP:20260422T172234
CREATED:20250523T163011Z
LAST-MODIFIED:20250805T143016Z
UID:10000973-1773907200-1773908400@sageracademy.com
SUMMARY:Upper School Parent Chapel @new SCA US campus
DESCRIPTION:At our new SCA Upper School campus: 1405 W Jefferson\, Siloam Springs
URL:https://sageracademy.com/event/upper-school-parent-chapel-new-sca-us-campus/2026-03-19/
END:VEVENT
BEGIN:VEVENT
DTSTART;TZID=America/Chicago:20260320T000000
DTEND;TZID=America/Chicago:20260320T235959
DTSTAMP:20260422T172234
CREATED:20250528T190236Z
LAST-MODIFIED:20250528T195712Z
UID:10000918-1773964800-1774051199@sageracademy.com
SUMMARY:Parent/Teacher Conferences (no classes)
DESCRIPTION:Lower School: parent attendance required \n\n\n\nUpper School: parent attendance optional
URL:https://sageracademy.com/event/parent-teacher-conferences-no-classes-5/
END:VEVENT
BEGIN:VEVENT
DTSTART;TZID=America/Chicago:20260323T000000
DTEND;TZID=America/Chicago:20260323T235959
DTSTAMP:20260422T172234
CREATED:20250528T190338Z
LAST-MODIFIED:20250528T190340Z
UID:10000919-1774224000-1774310399@sageracademy.com
SUMMARY:Spring Break (no classes)
DESCRIPTION:
URL:https://sageracademy.com/event/spring-break-no-classes-2/2026-03-23/
END:VEVENT
BEGIN:VEVENT
DTSTART;TZID=America/Chicago:20260324T000000
DTEND;TZID=America/Chicago:20260324T235959
DTSTAMP:20260422T172234
CREATED:20250528T190338Z
LAST-MODIFIED:20250528T190340Z
UID:10000920-1774310400-1774396799@sageracademy.com
SUMMARY:Spring Break (no classes)
DESCRIPTION:
URL:https://sageracademy.com/event/spring-break-no-classes-2/2026-03-24/
END:VEVENT
BEGIN:VEVENT
DTSTART;TZID=America/Chicago:20260325T000000
DTEND;TZID=America/Chicago:20260325T235959
DTSTAMP:20260422T172234
CREATED:20250528T190338Z
LAST-MODIFIED:20250528T190340Z
UID:10000921-1774396800-1774483199@sageracademy.com
SUMMARY:Spring Break (no classes)
DESCRIPTION:
URL:https://sageracademy.com/event/spring-break-no-classes-2/2026-03-25/
END:VEVENT
BEGIN:VEVENT
DTSTART;TZID=America/Chicago:20260326T000000
DTEND;TZID=America/Chicago:20260326T235959
DTSTAMP:20260422T172234
CREATED:20250528T190338Z
LAST-MODIFIED:20250528T190340Z
UID:10000922-1774483200-1774569599@sageracademy.com
SUMMARY:Spring Break (no classes)
DESCRIPTION:
URL:https://sageracademy.com/event/spring-break-no-classes-2/2026-03-26/
END:VEVENT
BEGIN:VEVENT
DTSTART;TZID=America/Chicago:20260327T000000
DTEND;TZID=America/Chicago:20260327T235959
DTSTAMP:20260422T172234
CREATED:20250528T190338Z
LAST-MODIFIED:20250528T190340Z
UID:10000923-1774569600-1774655999@sageracademy.com
SUMMARY:Spring Break (no classes)
DESCRIPTION:
URL:https://sageracademy.com/event/spring-break-no-classes-2/2026-03-27/
END:VEVENT
BEGIN:VEVENT
DTSTART;TZID=America/Chicago:20260402T000000
DTEND;TZID=America/Chicago:20260402T235959
DTSTAMP:20260422T172234
CREATED:20250523T162008Z
LAST-MODIFIED:20250523T162010Z
UID:10000727-1775088000-1775174399@sageracademy.com
SUMMARY:Lower School Spirit Day
DESCRIPTION:
URL:https://sageracademy.com/event/lower-school-spirit-day/2026-04-02/
END:VEVENT
BEGIN:VEVENT
DTSTART;TZID=America/Chicago:20260402T000000
DTEND;TZID=America/Chicago:20260402T235959
DTSTAMP:20260422T172234
CREATED:20250528T175920Z
LAST-MODIFIED:20250528T175923Z
UID:10000836-1775088000-1775174399@sageracademy.com
SUMMARY:Pizza Day!
DESCRIPTION:
URL:https://sageracademy.com/event/pizza-day-8/2026-04-02/
END:VEVENT
BEGIN:VEVENT
DTSTART;TZID=America/Chicago:20260402T080000
DTEND;TZID=America/Chicago:20260402T082000
DTSTAMP:20260422T172234
CREATED:20250523T163011Z
LAST-MODIFIED:20250805T143016Z
UID:10000975-1775116800-1775118000@sageracademy.com
SUMMARY:Upper School Parent Chapel @new SCA US campus
DESCRIPTION:At our new SCA Upper School campus: 1405 W Jefferson\, Siloam Springs
URL:https://sageracademy.com/event/upper-school-parent-chapel-new-sca-us-campus/2026-04-02/
END:VEVENT
BEGIN:VEVENT
DTSTART;TZID=America/Chicago:20260402T080500
DTEND;TZID=America/Chicago:20260402T083000
DTSTAMP:20260422T172234
CREATED:20250523T163254Z
LAST-MODIFIED:20250523T163256Z
UID:10000815-1775117100-1775118600@sageracademy.com
SUMMARY:Lower School Parent Chapel @CCF
DESCRIPTION:
URL:https://sageracademy.com/event/lower-school-parent-chapel-ccf-14/2026-04-02/
END:VEVENT
BEGIN:VEVENT
DTSTART;TZID=America/Chicago:20260402T083000
DTEND;TZID=America/Chicago:20260402T093000
DTSTAMP:20260422T172234
CREATED:20250528T190901Z
LAST-MODIFIED:20250805T152526Z
UID:10000924-1775118600-1775122200@sageracademy.com
SUMMARY:Lower School Donuts with Dr. Rap @CCF
DESCRIPTION:
URL:https://sageracademy.com/event/lower-school-pastries-with-parents-ccf-10/
END:VEVENT
BEGIN:VEVENT
DTSTART;TZID=America/Chicago:20260402T130000
DTEND;TZID=America/Chicago:20260402T150000
DTSTAMP:20260422T172234
CREATED:20250523T163544Z
LAST-MODIFIED:20250523T163545Z
UID:10000825-1775134800-1775142000@sageracademy.com
SUMMARY:Lower School Teacher Meeting
DESCRIPTION:
URL:https://sageracademy.com/event/lower-school-teacher-meeting/2026-04-02/
END:VEVENT
BEGIN:VEVENT
DTSTART;TZID=America/Chicago:20260403T000000
DTEND;TZID=America/Chicago:20260403T235959
DTSTAMP:20260422T172234
CREATED:20250528T190938Z
LAST-MODIFIED:20250528T190940Z
UID:10000925-1775174400-1775260799@sageracademy.com
SUMMARY:Good Friday (no classes)
DESCRIPTION:
URL:https://sageracademy.com/event/good-friday-no-classes-2/
END:VEVENT
BEGIN:VEVENT
DTSTART;TZID=America/Chicago:20260406T000000
DTEND;TZID=America/Chicago:20260406T235959
DTSTAMP:20260422T172234
CREATED:20250528T191008Z
LAST-MODIFIED:20250528T191009Z
UID:10000926-1775433600-1775519999@sageracademy.com
SUMMARY:Easter Monday (no classes)
DESCRIPTION:
URL:https://sageracademy.com/event/easter-monday-no-classes/
END:VEVENT
BEGIN:VEVENT
DTSTART;TZID=America/Chicago:20260407T000000
DTEND;TZID=America/Chicago:20260407T235959
DTSTAMP:20260422T172234
CREATED:20260316T162209Z
LAST-MODIFIED:20260330T193707Z
UID:10001065-1775520000-1775606399@sageracademy.com
SUMMARY:Spring Picture Day
DESCRIPTION:
URL:https://sageracademy.com/event/spring-picture-day-2/
END:VEVENT
BEGIN:VEVENT
DTSTART;TZID=America/Chicago:20260407T150000
DTEND;TZID=America/Chicago:20260407T163000
DTSTAMP:20260422T172234
CREATED:20250528T191118Z
LAST-MODIFIED:20250528T191120Z
UID:10000927-1775574000-1775579400@sageracademy.com
SUMMARY:Upper School Teacher Meeting
DESCRIPTION:
URL:https://sageracademy.com/event/upper-school-teacher-meeting-5/
END:VEVENT
BEGIN:VEVENT
DTSTART;TZID=America/Chicago:20260409T000000
DTEND;TZID=America/Chicago:20260409T235959
DTSTAMP:20260422T172234
CREATED:20250523T162008Z
LAST-MODIFIED:20250523T162010Z
UID:10000728-1775692800-1775779199@sageracademy.com
SUMMARY:Lower School Spirit Day
DESCRIPTION:
URL:https://sageracademy.com/event/lower-school-spirit-day/2026-04-09/
END:VEVENT
BEGIN:VEVENT
DTSTART;TZID=America/Chicago:20260409T080000
DTEND;TZID=America/Chicago:20260409T082000
DTSTAMP:20260422T172234
CREATED:20250523T163011Z
LAST-MODIFIED:20250805T143016Z
UID:10000976-1775721600-1775722800@sageracademy.com
SUMMARY:Upper School Parent Chapel @new SCA US campus
DESCRIPTION:At our new SCA Upper School campus: 1405 W Jefferson\, Siloam Springs
URL:https://sageracademy.com/event/upper-school-parent-chapel-new-sca-us-campus/2026-04-09/
END:VEVENT
BEGIN:VEVENT
DTSTART;TZID=America/Chicago:20260410T000000
DTEND;TZID=America/Chicago:20260410T235959
DTSTAMP:20260422T172234
CREATED:20250523T162141Z
LAST-MODIFIED:20250523T162143Z
UID:10000766-1775779200-1775865599@sageracademy.com
SUMMARY:Upper School Spirit Day
DESCRIPTION:
URL:https://sageracademy.com/event/upper-school-spirit-day/2026-04-10/
END:VEVENT
BEGIN:VEVENT
DTSTART;TZID=America/Chicago:20260414T180000
DTEND;TZID=America/Chicago:20260414T190000
DTSTAMP:20260422T172234
CREATED:20260402T140753Z
LAST-MODIFIED:20260402T144352Z
UID:10001079-1776189600-1776193200@sageracademy.com
SUMMARY:Meet Jerrie Price our new US Dean
DESCRIPTION:At Upper School campus\, 1405 W Jefferson Street
URL:https://sageracademy.com/event/meet-jeri-price-our-new-us-dean/
END:VEVENT
BEGIN:VEVENT
DTSTART;TZID=America/Chicago:20260414T190000
DTEND;TZID=America/Chicago:20260414T200000
DTSTAMP:20260422T172234
CREATED:20250528T191202Z
LAST-MODIFIED:20250528T191204Z
UID:10000928-1776193200-1776196800@sageracademy.com
SUMMARY:State of the School Address @new SCA US campus
DESCRIPTION:
URL:https://sageracademy.com/event/state-of-the-school-address-new-sca-us-campus/
END:VEVENT
BEGIN:VEVENT
DTSTART;TZID=America/Chicago:20260416T000000
DTEND;TZID=America/Chicago:20260416T235959
DTSTAMP:20260422T172234
CREATED:20250523T162008Z
LAST-MODIFIED:20250523T162010Z
UID:10000729-1776297600-1776383999@sageracademy.com
SUMMARY:Lower School Spirit Day
DESCRIPTION:
URL:https://sageracademy.com/event/lower-school-spirit-day/2026-04-16/
END:VEVENT
BEGIN:VEVENT
DTSTART;TZID=America/Chicago:20260416T080000
DTEND;TZID=America/Chicago:20260416T082000
DTSTAMP:20260422T172234
CREATED:20250523T163011Z
LAST-MODIFIED:20250805T143016Z
UID:10000977-1776326400-1776327600@sageracademy.com
SUMMARY:Upper School Parent Chapel @new SCA US campus
DESCRIPTION:At our new SCA Upper School campus: 1405 W Jefferson\, Siloam Springs
URL:https://sageracademy.com/event/upper-school-parent-chapel-new-sca-us-campus/2026-04-16/
END:VEVENT
BEGIN:VEVENT
DTSTART;TZID=America/Chicago:20260417T000000
DTEND;TZID=America/Chicago:20260417T235959
DTSTAMP:20260422T172234
CREATED:20250523T162141Z
LAST-MODIFIED:20250523T162143Z
UID:10000767-1776384000-1776470399@sageracademy.com
SUMMARY:Upper School Spirit Day
DESCRIPTION:
URL:https://sageracademy.com/event/upper-school-spirit-day/2026-04-17/
END:VEVENT
END:VCALENDAR