BEGIN:VCALENDAR
VERSION:2.0
PRODID:-//Sager Classical Academy - ECPv6.15.20//NONSGML v1.0//EN
CALSCALE:GREGORIAN
METHOD:PUBLISH
X-WR-CALNAME:Sager Classical Academy
X-ORIGINAL-URL:https://sageracademy.com
X-WR-CALDESC:Events for Sager Classical Academy
REFRESH-INTERVAL;VALUE=DURATION:PT1H
X-Robots-Tag:noindex
X-PUBLISHED-TTL:PT1H
BEGIN:VTIMEZONE
TZID:America/Chicago
BEGIN:DAYLIGHT
TZOFFSETFROM:-0600
TZOFFSETTO:-0500
TZNAME:CDT
DTSTART:20240310T080000
END:DAYLIGHT
BEGIN:STANDARD
TZOFFSETFROM:-0500
TZOFFSETTO:-0600
TZNAME:CST
DTSTART:20241103T070000
END:STANDARD
BEGIN:DAYLIGHT
TZOFFSETFROM:-0600
TZOFFSETTO:-0500
TZNAME:CDT
DTSTART:20250309T080000
END:DAYLIGHT
BEGIN:STANDARD
TZOFFSETFROM:-0500
TZOFFSETTO:-0600
TZNAME:CST
DTSTART:20251102T070000
END:STANDARD
BEGIN:DAYLIGHT
TZOFFSETFROM:-0600
TZOFFSETTO:-0500
TZNAME:CDT
DTSTART:20260308T080000
END:DAYLIGHT
BEGIN:STANDARD
TZOFFSETFROM:-0500
TZOFFSETTO:-0600
TZNAME:CST
DTSTART:20261101T070000
END:STANDARD
BEGIN:DAYLIGHT
TZOFFSETFROM:-0600
TZOFFSETTO:-0500
TZNAME:CDT
DTSTART:20270314T080000
END:DAYLIGHT
BEGIN:STANDARD
TZOFFSETFROM:-0500
TZOFFSETTO:-0600
TZNAME:CST
DTSTART:20271107T070000
END:STANDARD
END:VTIMEZONE
BEGIN:VEVENT
DTSTART;TZID=America/Chicago:20260106T000000
DTEND;TZID=America/Chicago:20260106T235959
DTSTAMP:20260422T175050
CREATED:20250528T183314Z
LAST-MODIFIED:20250528T183316Z
UID:10000893-1767657600-1767743999@sageracademy.com
SUMMARY:Teacher Professional Development (no classes)
DESCRIPTION:
URL:https://sageracademy.com/event/teacher-professional-development-no-classes/2026-01-06/
END:VEVENT
BEGIN:VEVENT
DTSTART;TZID=America/Chicago:20260106T000000
DTEND;TZID=America/Chicago:20260106T235959
DTSTAMP:20260422T175050
CREATED:20250528T182859Z
LAST-MODIFIED:20250528T182901Z
UID:10000890-1767657600-1767743999@sageracademy.com
SUMMARY:Christmas Break for Students (no classes)
DESCRIPTION:
URL:https://sageracademy.com/event/christmas-break-for-students-no-classes-2/2026-01-06/
END:VEVENT
BEGIN:VEVENT
DTSTART;TZID=America/Chicago:20260105T000000
DTEND;TZID=America/Chicago:20260105T235959
DTSTAMP:20260422T175050
CREATED:20250528T183314Z
LAST-MODIFIED:20250528T183316Z
UID:10000892-1767571200-1767657599@sageracademy.com
SUMMARY:Teacher Professional Development (no classes)
DESCRIPTION:
URL:https://sageracademy.com/event/teacher-professional-development-no-classes/2026-01-05/
END:VEVENT
BEGIN:VEVENT
DTSTART;TZID=America/Chicago:20260105T000000
DTEND;TZID=America/Chicago:20260105T235959
DTSTAMP:20260422T175050
CREATED:20250528T182859Z
LAST-MODIFIED:20250528T182901Z
UID:10000889-1767571200-1767657599@sageracademy.com
SUMMARY:Christmas Break for Students (no classes)
DESCRIPTION:
URL:https://sageracademy.com/event/christmas-break-for-students-no-classes-2/2026-01-05/
END:VEVENT
BEGIN:VEVENT
DTSTART;TZID=America/Chicago:20260104T000000
DTEND;TZID=America/Chicago:20260104T235959
DTSTAMP:20260422T175050
CREATED:20250528T182859Z
LAST-MODIFIED:20250528T182901Z
UID:10000888-1767484800-1767571199@sageracademy.com
SUMMARY:Christmas Break for Students (no classes)
DESCRIPTION:
URL:https://sageracademy.com/event/christmas-break-for-students-no-classes-2/2026-01-04/
END:VEVENT
BEGIN:VEVENT
DTSTART;TZID=America/Chicago:20260104T000000
DTEND;TZID=America/Chicago:20260104T235959
DTSTAMP:20260422T175050
CREATED:20250528T182328Z
LAST-MODIFIED:20250528T182329Z
UID:10000871-1767484800-1767571199@sageracademy.com
SUMMARY:Christmas Break for Staff (no classes)
DESCRIPTION:
URL:https://sageracademy.com/event/christmas-break-for-staff-no-classes-2/2026-01-04/
END:VEVENT
BEGIN:VEVENT
DTSTART;TZID=America/Chicago:20260103T000000
DTEND;TZID=America/Chicago:20260103T235959
DTSTAMP:20260422T175050
CREATED:20250528T182859Z
LAST-MODIFIED:20250528T182901Z
UID:10000887-1767398400-1767484799@sageracademy.com
SUMMARY:Christmas Break for Students (no classes)
DESCRIPTION:
URL:https://sageracademy.com/event/christmas-break-for-students-no-classes-2/2026-01-03/
END:VEVENT
BEGIN:VEVENT
DTSTART;TZID=America/Chicago:20260103T000000
DTEND;TZID=America/Chicago:20260103T235959
DTSTAMP:20260422T175050
CREATED:20250528T182328Z
LAST-MODIFIED:20250528T182329Z
UID:10000870-1767398400-1767484799@sageracademy.com
SUMMARY:Christmas Break for Staff (no classes)
DESCRIPTION:
URL:https://sageracademy.com/event/christmas-break-for-staff-no-classes-2/2026-01-03/
END:VEVENT
BEGIN:VEVENT
DTSTART;TZID=America/Chicago:20260102T000000
DTEND;TZID=America/Chicago:20260102T235959
DTSTAMP:20260422T175050
CREATED:20250528T182859Z
LAST-MODIFIED:20250528T182901Z
UID:10000886-1767312000-1767398399@sageracademy.com
SUMMARY:Christmas Break for Students (no classes)
DESCRIPTION:
URL:https://sageracademy.com/event/christmas-break-for-students-no-classes-2/2026-01-02/
END:VEVENT
BEGIN:VEVENT
DTSTART;TZID=America/Chicago:20260102T000000
DTEND;TZID=America/Chicago:20260102T235959
DTSTAMP:20260422T175050
CREATED:20250528T182328Z
LAST-MODIFIED:20250528T182329Z
UID:10000869-1767312000-1767398399@sageracademy.com
SUMMARY:Christmas Break for Staff (no classes)
DESCRIPTION:
URL:https://sageracademy.com/event/christmas-break-for-staff-no-classes-2/2026-01-02/
END:VEVENT
BEGIN:VEVENT
DTSTART;TZID=America/Chicago:20260101T000000
DTEND;TZID=America/Chicago:20260101T235959
DTSTAMP:20260422T175050
CREATED:20250528T182859Z
LAST-MODIFIED:20250528T182901Z
UID:10000885-1767225600-1767311999@sageracademy.com
SUMMARY:Christmas Break for Students (no classes)
DESCRIPTION:
URL:https://sageracademy.com/event/christmas-break-for-students-no-classes-2/2026-01-01/
END:VEVENT
BEGIN:VEVENT
DTSTART;TZID=America/Chicago:20260101T000000
DTEND;TZID=America/Chicago:20260101T235959
DTSTAMP:20260422T175050
CREATED:20250528T182328Z
LAST-MODIFIED:20250528T182329Z
UID:10000868-1767225600-1767311999@sageracademy.com
SUMMARY:Christmas Break for Staff (no classes)
DESCRIPTION:
URL:https://sageracademy.com/event/christmas-break-for-staff-no-classes-2/2026-01-01/
END:VEVENT
BEGIN:VEVENT
DTSTART;TZID=America/Chicago:20251231T000000
DTEND;TZID=America/Chicago:20251231T235959
DTSTAMP:20260422T175050
CREATED:20250528T182859Z
LAST-MODIFIED:20250528T182901Z
UID:10000884-1767139200-1767225599@sageracademy.com
SUMMARY:Christmas Break for Students (no classes)
DESCRIPTION:
URL:https://sageracademy.com/event/christmas-break-for-students-no-classes-2/2025-12-31/
END:VEVENT
BEGIN:VEVENT
DTSTART;TZID=America/Chicago:20251231T000000
DTEND;TZID=America/Chicago:20251231T235959
DTSTAMP:20260422T175050
CREATED:20250528T182328Z
LAST-MODIFIED:20250528T182329Z
UID:10000867-1767139200-1767225599@sageracademy.com
SUMMARY:Christmas Break for Staff (no classes)
DESCRIPTION:
URL:https://sageracademy.com/event/christmas-break-for-staff-no-classes-2/2025-12-31/
END:VEVENT
BEGIN:VEVENT
DTSTART;TZID=America/Chicago:20251230T000000
DTEND;TZID=America/Chicago:20251230T235959
DTSTAMP:20260422T175050
CREATED:20250528T182859Z
LAST-MODIFIED:20250528T182901Z
UID:10000883-1767052800-1767139199@sageracademy.com
SUMMARY:Christmas Break for Students (no classes)
DESCRIPTION:
URL:https://sageracademy.com/event/christmas-break-for-students-no-classes-2/2025-12-30/
END:VEVENT
BEGIN:VEVENT
DTSTART;TZID=America/Chicago:20251230T000000
DTEND;TZID=America/Chicago:20251230T235959
DTSTAMP:20260422T175050
CREATED:20250528T182328Z
LAST-MODIFIED:20250528T182329Z
UID:10000866-1767052800-1767139199@sageracademy.com
SUMMARY:Christmas Break for Staff (no classes)
DESCRIPTION:
URL:https://sageracademy.com/event/christmas-break-for-staff-no-classes-2/2025-12-30/
END:VEVENT
BEGIN:VEVENT
DTSTART;TZID=America/Chicago:20251229T000000
DTEND;TZID=America/Chicago:20251229T235959
DTSTAMP:20260422T175050
CREATED:20250528T182859Z
LAST-MODIFIED:20250528T182901Z
UID:10000882-1766966400-1767052799@sageracademy.com
SUMMARY:Christmas Break for Students (no classes)
DESCRIPTION:
URL:https://sageracademy.com/event/christmas-break-for-students-no-classes-2/2025-12-29/
END:VEVENT
BEGIN:VEVENT
DTSTART;TZID=America/Chicago:20251229T000000
DTEND;TZID=America/Chicago:20251229T235959
DTSTAMP:20260422T175050
CREATED:20250528T182328Z
LAST-MODIFIED:20250528T182329Z
UID:10000865-1766966400-1767052799@sageracademy.com
SUMMARY:Christmas Break for Staff (no classes)
DESCRIPTION:
URL:https://sageracademy.com/event/christmas-break-for-staff-no-classes-2/2025-12-29/
END:VEVENT
BEGIN:VEVENT
DTSTART;TZID=America/Chicago:20251228T000000
DTEND;TZID=America/Chicago:20251228T235959
DTSTAMP:20260422T175050
CREATED:20250528T182859Z
LAST-MODIFIED:20250528T182901Z
UID:10000881-1766880000-1766966399@sageracademy.com
SUMMARY:Christmas Break for Students (no classes)
DESCRIPTION:
URL:https://sageracademy.com/event/christmas-break-for-students-no-classes-2/2025-12-28/
END:VEVENT
BEGIN:VEVENT
DTSTART;TZID=America/Chicago:20251228T000000
DTEND;TZID=America/Chicago:20251228T235959
DTSTAMP:20260422T175050
CREATED:20250528T182328Z
LAST-MODIFIED:20250528T182329Z
UID:10000864-1766880000-1766966399@sageracademy.com
SUMMARY:Christmas Break for Staff (no classes)
DESCRIPTION:
URL:https://sageracademy.com/event/christmas-break-for-staff-no-classes-2/2025-12-28/
END:VEVENT
BEGIN:VEVENT
DTSTART;TZID=America/Chicago:20251227T000000
DTEND;TZID=America/Chicago:20251227T235959
DTSTAMP:20260422T175050
CREATED:20250528T182859Z
LAST-MODIFIED:20250528T182901Z
UID:10000880-1766793600-1766879999@sageracademy.com
SUMMARY:Christmas Break for Students (no classes)
DESCRIPTION:
URL:https://sageracademy.com/event/christmas-break-for-students-no-classes-2/2025-12-27/
END:VEVENT
BEGIN:VEVENT
DTSTART;TZID=America/Chicago:20251227T000000
DTEND;TZID=America/Chicago:20251227T235959
DTSTAMP:20260422T175050
CREATED:20250528T182328Z
LAST-MODIFIED:20250528T182329Z
UID:10000863-1766793600-1766879999@sageracademy.com
SUMMARY:Christmas Break for Staff (no classes)
DESCRIPTION:
URL:https://sageracademy.com/event/christmas-break-for-staff-no-classes-2/2025-12-27/
END:VEVENT
BEGIN:VEVENT
DTSTART;TZID=America/Chicago:20251226T000000
DTEND;TZID=America/Chicago:20251226T235959
DTSTAMP:20260422T175050
CREATED:20250528T182859Z
LAST-MODIFIED:20250528T182901Z
UID:10000879-1766707200-1766793599@sageracademy.com
SUMMARY:Christmas Break for Students (no classes)
DESCRIPTION:
URL:https://sageracademy.com/event/christmas-break-for-students-no-classes-2/2025-12-26/
END:VEVENT
BEGIN:VEVENT
DTSTART;TZID=America/Chicago:20251226T000000
DTEND;TZID=America/Chicago:20251226T235959
DTSTAMP:20260422T175050
CREATED:20250528T182328Z
LAST-MODIFIED:20250528T182329Z
UID:10000862-1766707200-1766793599@sageracademy.com
SUMMARY:Christmas Break for Staff (no classes)
DESCRIPTION:
URL:https://sageracademy.com/event/christmas-break-for-staff-no-classes-2/2025-12-26/
END:VEVENT
BEGIN:VEVENT
DTSTART;TZID=America/Chicago:20251225T000000
DTEND;TZID=America/Chicago:20251225T235959
DTSTAMP:20260422T175050
CREATED:20250528T182859Z
LAST-MODIFIED:20250528T182901Z
UID:10000878-1766620800-1766707199@sageracademy.com
SUMMARY:Christmas Break for Students (no classes)
DESCRIPTION:
URL:https://sageracademy.com/event/christmas-break-for-students-no-classes-2/2025-12-25/
END:VEVENT
BEGIN:VEVENT
DTSTART;TZID=America/Chicago:20251225T000000
DTEND;TZID=America/Chicago:20251225T235959
DTSTAMP:20260422T175050
CREATED:20250528T182328Z
LAST-MODIFIED:20250528T182329Z
UID:10000861-1766620800-1766707199@sageracademy.com
SUMMARY:Christmas Break for Staff (no classes)
DESCRIPTION:
URL:https://sageracademy.com/event/christmas-break-for-staff-no-classes-2/2025-12-25/
END:VEVENT
BEGIN:VEVENT
DTSTART;TZID=America/Chicago:20251224T000000
DTEND;TZID=America/Chicago:20251224T235959
DTSTAMP:20260422T175050
CREATED:20250528T182859Z
LAST-MODIFIED:20250528T182901Z
UID:10000877-1766534400-1766620799@sageracademy.com
SUMMARY:Christmas Break for Students (no classes)
DESCRIPTION:
URL:https://sageracademy.com/event/christmas-break-for-students-no-classes-2/2025-12-24/
END:VEVENT
BEGIN:VEVENT
DTSTART;TZID=America/Chicago:20251224T000000
DTEND;TZID=America/Chicago:20251224T235959
DTSTAMP:20260422T175050
CREATED:20250528T182328Z
LAST-MODIFIED:20250528T182329Z
UID:10000860-1766534400-1766620799@sageracademy.com
SUMMARY:Christmas Break for Staff (no classes)
DESCRIPTION:
URL:https://sageracademy.com/event/christmas-break-for-staff-no-classes-2/2025-12-24/
END:VEVENT
BEGIN:VEVENT
DTSTART;TZID=America/Chicago:20251223T000000
DTEND;TZID=America/Chicago:20251223T235959
DTSTAMP:20260422T175050
CREATED:20250528T182859Z
LAST-MODIFIED:20250528T182901Z
UID:10000876-1766448000-1766534399@sageracademy.com
SUMMARY:Christmas Break for Students (no classes)
DESCRIPTION:
URL:https://sageracademy.com/event/christmas-break-for-students-no-classes-2/2025-12-23/
END:VEVENT
BEGIN:VEVENT
DTSTART;TZID=America/Chicago:20251223T000000
DTEND;TZID=America/Chicago:20251223T235959
DTSTAMP:20260422T175050
CREATED:20250528T182328Z
LAST-MODIFIED:20250528T182329Z
UID:10000859-1766448000-1766534399@sageracademy.com
SUMMARY:Christmas Break for Staff (no classes)
DESCRIPTION:
URL:https://sageracademy.com/event/christmas-break-for-staff-no-classes-2/2025-12-23/
END:VEVENT
END:VCALENDAR