BEGIN:VCALENDAR
VERSION:2.0
PRODID:-//Sager Classical Academy - ECPv6.15.20//NONSGML v1.0//EN
CALSCALE:GREGORIAN
METHOD:PUBLISH
X-WR-CALNAME:Sager Classical Academy
X-ORIGINAL-URL:https://sageracademy.com
X-WR-CALDESC:Events for Sager Classical Academy
REFRESH-INTERVAL;VALUE=DURATION:PT1H
X-Robots-Tag:noindex
X-PUBLISHED-TTL:PT1H
BEGIN:VTIMEZONE
TZID:America/Chicago
BEGIN:DAYLIGHT
TZOFFSETFROM:-0600
TZOFFSETTO:-0500
TZNAME:CDT
DTSTART:20250309T080000
END:DAYLIGHT
BEGIN:STANDARD
TZOFFSETFROM:-0500
TZOFFSETTO:-0600
TZNAME:CST
DTSTART:20251102T070000
END:STANDARD
BEGIN:DAYLIGHT
TZOFFSETFROM:-0600
TZOFFSETTO:-0500
TZNAME:CDT
DTSTART:20260308T080000
END:DAYLIGHT
BEGIN:STANDARD
TZOFFSETFROM:-0500
TZOFFSETTO:-0600
TZNAME:CST
DTSTART:20261101T070000
END:STANDARD
BEGIN:DAYLIGHT
TZOFFSETFROM:-0600
TZOFFSETTO:-0500
TZNAME:CDT
DTSTART:20270314T080000
END:DAYLIGHT
BEGIN:STANDARD
TZOFFSETFROM:-0500
TZOFFSETTO:-0600
TZNAME:CST
DTSTART:20271107T070000
END:STANDARD
END:VTIMEZONE
BEGIN:VEVENT
DTSTART;TZID=America/Chicago:20260303T150000
DTEND;TZID=America/Chicago:20260303T163000
DTSTAMP:20260422T170508
CREATED:20250528T185626Z
LAST-MODIFIED:20250528T185628Z
UID:10000913-1772550000-1772555400@sageracademy.com
SUMMARY:Upper School Teacher Meeting
DESCRIPTION:
URL:https://sageracademy.com/event/upper-school-teacher-meeting-4/
END:VEVENT
BEGIN:VEVENT
DTSTART;TZID=America/Chicago:20260227T000000
DTEND;TZID=America/Chicago:20260227T235959
DTSTAMP:20260422T170508
CREATED:20250528T185544Z
LAST-MODIFIED:20250529T213048Z
UID:10000912-1772150400-1772236799@sageracademy.com
SUMMARY:Spring Showcase @Sager Creek Community Church
DESCRIPTION:
URL:https://sageracademy.com/event/lower-school-spring-showcase-sager-creek-community-church/
END:VEVENT
BEGIN:VEVENT
DTSTART;TZID=America/Chicago:20260227T000000
DTEND;TZID=America/Chicago:20260227T235959
DTSTAMP:20260422T170508
CREATED:20250523T162141Z
LAST-MODIFIED:20250523T162143Z
UID:10000760-1772150400-1772236799@sageracademy.com
SUMMARY:Upper School Spirit Day
DESCRIPTION:
URL:https://sageracademy.com/event/upper-school-spirit-day/2026-02-27/
END:VEVENT
BEGIN:VEVENT
DTSTART;TZID=America/Chicago:20260226T080000
DTEND;TZID=America/Chicago:20260226T082000
DTSTAMP:20260422T170508
CREATED:20250523T163011Z
LAST-MODIFIED:20250805T143016Z
UID:10000970-1772092800-1772094000@sageracademy.com
SUMMARY:Upper School Parent Chapel @new SCA US campus
DESCRIPTION:At our new SCA Upper School campus: 1405 W Jefferson\, Siloam Springs
URL:https://sageracademy.com/event/upper-school-parent-chapel-new-sca-us-campus/2026-02-26/
END:VEVENT
BEGIN:VEVENT
DTSTART;TZID=America/Chicago:20260226T000000
DTEND;TZID=America/Chicago:20260226T235959
DTSTAMP:20260422T170508
CREATED:20250523T162008Z
LAST-MODIFIED:20250523T162010Z
UID:10000722-1772064000-1772150399@sageracademy.com
SUMMARY:Lower School Spirit Day
DESCRIPTION:
URL:https://sageracademy.com/event/lower-school-spirit-day/2026-02-26/
END:VEVENT
BEGIN:VEVENT
DTSTART;TZID=America/Chicago:20260220T000000
DTEND;TZID=America/Chicago:20260220T235959
DTSTAMP:20260422T170508
CREATED:20250523T162141Z
LAST-MODIFIED:20250523T162143Z
UID:10000759-1771545600-1771631999@sageracademy.com
SUMMARY:Upper School Spirit Day
DESCRIPTION:
URL:https://sageracademy.com/event/upper-school-spirit-day/2026-02-20/
END:VEVENT
BEGIN:VEVENT
DTSTART;TZID=America/Chicago:20260219T080000
DTEND;TZID=America/Chicago:20260219T082000
DTSTAMP:20260422T170508
CREATED:20250523T163011Z
LAST-MODIFIED:20250805T143016Z
UID:10000969-1771488000-1771489200@sageracademy.com
SUMMARY:Upper School Parent Chapel @new SCA US campus
DESCRIPTION:At our new SCA Upper School campus: 1405 W Jefferson\, Siloam Springs
URL:https://sageracademy.com/event/upper-school-parent-chapel-new-sca-us-campus/2026-02-19/
END:VEVENT
BEGIN:VEVENT
DTSTART;TZID=America/Chicago:20260219T000000
DTEND;TZID=America/Chicago:20260219T235959
DTSTAMP:20260422T170508
CREATED:20250523T162008Z
LAST-MODIFIED:20250523T162010Z
UID:10000721-1771459200-1771545599@sageracademy.com
SUMMARY:Lower School Spirit Day
DESCRIPTION:
URL:https://sageracademy.com/event/lower-school-spirit-day/2026-02-19/
END:VEVENT
BEGIN:VEVENT
DTSTART;TZID=America/Chicago:20260217T000000
DTEND;TZID=America/Chicago:20260217T235959
DTSTAMP:20260422T170508
CREATED:20250528T184640Z
LAST-MODIFIED:20251107T150316Z
UID:10000904-1771286400-1771372799@sageracademy.com
SUMMARY:Open Enrollment begins (all families)
DESCRIPTION:
URL:https://sageracademy.com/event/open-enrollment-begins-all-families/
END:VEVENT
BEGIN:VEVENT
DTSTART;TZID=America/Chicago:20260216T000000
DTEND;TZID=America/Chicago:20260216T235959
DTSTAMP:20260422T170508
CREATED:20250528T185429Z
LAST-MODIFIED:20250528T185433Z
UID:10000911-1771200000-1771286399@sageracademy.com
SUMMARY:Presidents' Day (no classes)
DESCRIPTION:
URL:https://sageracademy.com/event/presidents-day-no-classes-2/
END:VEVENT
BEGIN:VEVENT
DTSTART;TZID=America/Chicago:20260213T000000
DTEND;TZID=America/Chicago:20260213T235959
DTSTAMP:20260422T170508
CREATED:20250528T185354Z
LAST-MODIFIED:20250528T185356Z
UID:10000910-1770940800-1771027199@sageracademy.com
SUMMARY:Loved Ones Luncheon @CCF (4th-6th grades)
DESCRIPTION:
URL:https://sageracademy.com/event/loved-ones-luncheon-ccf-4th-6th-grades/
END:VEVENT
BEGIN:VEVENT
DTSTART;TZID=America/Chicago:20260213T000000
DTEND;TZID=America/Chicago:20260213T235959
DTSTAMP:20260422T170508
CREATED:20250523T162141Z
LAST-MODIFIED:20250523T162143Z
UID:10000758-1770940800-1771027199@sageracademy.com
SUMMARY:Upper School Spirit Day
DESCRIPTION:
URL:https://sageracademy.com/event/upper-school-spirit-day/2026-02-13/
END:VEVENT
BEGIN:VEVENT
DTSTART;TZID=America/Chicago:20260212T183000
DTEND;TZID=America/Chicago:20260212T200000
DTSTAMP:20260422T170508
CREATED:20250528T185246Z
LAST-MODIFIED:20250529T212851Z
UID:10000909-1770921000-1770926400@sageracademy.com
SUMMARY:Information Session for Prospective Parents @new SCA US campus
DESCRIPTION:1405 W Jefferson Street\, Siloam Springs\, AR
URL:https://sageracademy.com/event/information-session-for-prospective-parents-2/
END:VEVENT
BEGIN:VEVENT
DTSTART;TZID=America/Chicago:20260212T080000
DTEND;TZID=America/Chicago:20260212T082000
DTSTAMP:20260422T170508
CREATED:20250523T163011Z
LAST-MODIFIED:20250805T143016Z
UID:10000968-1770883200-1770884400@sageracademy.com
SUMMARY:Upper School Parent Chapel @new SCA US campus
DESCRIPTION:At our new SCA Upper School campus: 1405 W Jefferson\, Siloam Springs
URL:https://sageracademy.com/event/upper-school-parent-chapel-new-sca-us-campus/2026-02-12/
END:VEVENT
BEGIN:VEVENT
DTSTART;TZID=America/Chicago:20260212T000000
DTEND;TZID=America/Chicago:20260212T235959
DTSTAMP:20260422T170508
CREATED:20250523T162008Z
LAST-MODIFIED:20250523T162010Z
UID:10000720-1770854400-1770940799@sageracademy.com
SUMMARY:Lower School Spirit Day
DESCRIPTION:
URL:https://sageracademy.com/event/lower-school-spirit-day/2026-02-12/
END:VEVENT
BEGIN:VEVENT
DTSTART;TZID=America/Chicago:20260211T080000
DTEND;TZID=America/Chicago:20260211T093000
DTSTAMP:20260422T170508
CREATED:20250528T185135Z
LAST-MODIFIED:20250528T185138Z
UID:10000908-1770796800-1770802200@sageracademy.com
SUMMARY:PreK & Kindergarten Preview @CCF
DESCRIPTION:
URL:https://sageracademy.com/event/prek-kindergarten-preview-ccf/
END:VEVENT
BEGIN:VEVENT
DTSTART;TZID=America/Chicago:20260210T183000
DTEND;TZID=America/Chicago:20260210T193000
DTSTAMP:20260422T170508
CREATED:20260116T175658Z
LAST-MODIFIED:20260116T175702Z
UID:10001025-1770748200-1770751800@sageracademy.com
SUMMARY:Parent Training: Stress & Anxiety Session 4
DESCRIPTION:Will take place at the Upper School campus.  Click here to register.
URL:https://sageracademy.com/event/parent-training-stress-anxiety-session-4/
END:VEVENT
BEGIN:VEVENT
DTSTART;TZID=America/Chicago:20260206T000000
DTEND;TZID=America/Chicago:20260206T235959
DTSTAMP:20260422T170508
CREATED:20250523T162141Z
LAST-MODIFIED:20250523T162143Z
UID:10000757-1770336000-1770422399@sageracademy.com
SUMMARY:Upper School Spirit Day
DESCRIPTION:
URL:https://sageracademy.com/event/upper-school-spirit-day/2026-02-06/
END:VEVENT
BEGIN:VEVENT
DTSTART;TZID=America/Chicago:20260205T130000
DTEND;TZID=America/Chicago:20260205T150000
DTSTAMP:20260422T170508
CREATED:20250523T163544Z
LAST-MODIFIED:20250523T163545Z
UID:10000823-1770296400-1770303600@sageracademy.com
SUMMARY:Lower School Teacher Meeting
DESCRIPTION:
URL:https://sageracademy.com/event/lower-school-teacher-meeting/2026-02-05/
END:VEVENT
BEGIN:VEVENT
DTSTART;TZID=America/Chicago:20260205T083000
DTEND;TZID=America/Chicago:20260205T093000
DTSTAMP:20260422T170508
CREATED:20260112T144628Z
LAST-MODIFIED:20260112T144632Z
UID:10001021-1770280200-1770283800@sageracademy.com
SUMMARY:Pastries with Parents (with Mrs. Thompson!)
DESCRIPTION:
URL:https://sageracademy.com/event/pastries-with-parents-with-mrs-thompson/
END:VEVENT
BEGIN:VEVENT
DTSTART;TZID=America/Chicago:20260205T080500
DTEND;TZID=America/Chicago:20260205T083000
DTSTAMP:20260422T170508
CREATED:20250523T163254Z
LAST-MODIFIED:20250523T163256Z
UID:10000813-1770278700-1770280200@sageracademy.com
SUMMARY:Lower School Parent Chapel @CCF
DESCRIPTION:
URL:https://sageracademy.com/event/lower-school-parent-chapel-ccf-14/2026-02-05/
END:VEVENT
BEGIN:VEVENT
DTSTART;TZID=America/Chicago:20260205T080000
DTEND;TZID=America/Chicago:20260205T082000
DTSTAMP:20260422T170508
CREATED:20250523T163011Z
LAST-MODIFIED:20250805T143016Z
UID:10000967-1770278400-1770279600@sageracademy.com
SUMMARY:Upper School Parent Chapel @new SCA US campus
DESCRIPTION:At our new SCA Upper School campus: 1405 W Jefferson\, Siloam Springs
URL:https://sageracademy.com/event/upper-school-parent-chapel-new-sca-us-campus/2026-02-05/
END:VEVENT
BEGIN:VEVENT
DTSTART;TZID=America/Chicago:20260205T000000
DTEND;TZID=America/Chicago:20260205T235959
DTSTAMP:20260422T170508
CREATED:20250528T175920Z
LAST-MODIFIED:20250528T175923Z
UID:10000834-1770249600-1770335999@sageracademy.com
SUMMARY:Pizza Day!
DESCRIPTION:
URL:https://sageracademy.com/event/pizza-day-8/2026-02-05/
END:VEVENT
BEGIN:VEVENT
DTSTART;TZID=America/Chicago:20260205T000000
DTEND;TZID=America/Chicago:20260205T235959
DTSTAMP:20260422T170508
CREATED:20250523T162008Z
LAST-MODIFIED:20250523T162010Z
UID:10000719-1770249600-1770335999@sageracademy.com
SUMMARY:Lower School Spirit Day
DESCRIPTION:
URL:https://sageracademy.com/event/lower-school-spirit-day/2026-02-05/
END:VEVENT
BEGIN:VEVENT
DTSTART;TZID=America/Chicago:20260204T080000
DTEND;TZID=America/Chicago:20260204T093000
DTSTAMP:20260422T170508
CREATED:20250528T184823Z
LAST-MODIFIED:20250528T194820Z
UID:10000906-1770192000-1770197400@sageracademy.com
SUMMARY:Upper School Preview @new SCA US campus
DESCRIPTION:1405 W Jefferson Street\, Siloam Springs\, AR
URL:https://sageracademy.com/event/upper-school-preview-day-new-sca-us-campus-3/
END:VEVENT
BEGIN:VEVENT
DTSTART;TZID=America/Chicago:20260203T183000
DTEND;TZID=America/Chicago:20260203T193000
DTSTAMP:20260422T170508
CREATED:20260116T175535Z
LAST-MODIFIED:20260116T175539Z
UID:10001024-1770143400-1770147000@sageracademy.com
SUMMARY:Parent Training: Stress & Anxiety Session 3
DESCRIPTION:Will take place at the Upper School campus.  Click here to register.
URL:https://sageracademy.com/event/parent-training-stress-anxiety-session-3/
END:VEVENT
BEGIN:VEVENT
DTSTART;TZID=America/Chicago:20260203T150000
DTEND;TZID=America/Chicago:20260203T163000
DTSTAMP:20260422T170508
CREATED:20250528T184721Z
LAST-MODIFIED:20250528T184724Z
UID:10000905-1770130800-1770136200@sageracademy.com
SUMMARY:Upper School Teacher Meeting
DESCRIPTION:
URL:https://sageracademy.com/event/upper-school-teacher-meeting-3/
END:VEVENT
BEGIN:VEVENT
DTSTART;TZID=America/Chicago:20260202T000000
DTEND;TZID=America/Chicago:20260202T235959
DTSTAMP:20260422T170508
CREATED:20250528T184230Z
LAST-MODIFIED:20251105T002630Z
UID:10000900-1769990400-1770076799@sageracademy.com
SUMMARY:Current family-new student enrollment opens (ends 2/13)
DESCRIPTION:
URL:https://sageracademy.com/event/current-family-new-student-enrollment-opens-ends-1-31/
END:VEVENT
BEGIN:VEVENT
DTSTART;TZID=America/Chicago:20260130T000000
DTEND;TZID=America/Chicago:20260130T235959
DTSTAMP:20260422T170508
CREATED:20250523T162141Z
LAST-MODIFIED:20250523T162143Z
UID:10000756-1769731200-1769817599@sageracademy.com
SUMMARY:Upper School Spirit Day
DESCRIPTION:
URL:https://sageracademy.com/event/upper-school-spirit-day/2026-01-30/
END:VEVENT
BEGIN:VEVENT
DTSTART;TZID=America/Chicago:20260129T183000
DTEND;TZID=America/Chicago:20260129T200000
DTSTAMP:20260422T170508
CREATED:20250528T184552Z
LAST-MODIFIED:20250529T212755Z
UID:10000903-1769711400-1769716800@sageracademy.com
SUMMARY:Information Session for Prospective Parents @new SCA US campus
DESCRIPTION:1405 W Jefferson Street\, Siloam Springs\, AR
URL:https://sageracademy.com/event/information-session-for-prospective-parents/
END:VEVENT
END:VCALENDAR