BEGIN:VCALENDAR
VERSION:2.0
PRODID:-//Sager Classical Academy - ECPv6.15.20//NONSGML v1.0//EN
CALSCALE:GREGORIAN
METHOD:PUBLISH
X-WR-CALNAME:Sager Classical Academy
X-ORIGINAL-URL:https://sageracademy.com
X-WR-CALDESC:Events for Sager Classical Academy
REFRESH-INTERVAL;VALUE=DURATION:PT1H
X-Robots-Tag:noindex
X-PUBLISHED-TTL:PT1H
BEGIN:VTIMEZONE
TZID:America/Chicago
BEGIN:DAYLIGHT
TZOFFSETFROM:-0600
TZOFFSETTO:-0500
TZNAME:CDT
DTSTART:20240310T080000
END:DAYLIGHT
BEGIN:STANDARD
TZOFFSETFROM:-0500
TZOFFSETTO:-0600
TZNAME:CST
DTSTART:20241103T070000
END:STANDARD
BEGIN:DAYLIGHT
TZOFFSETFROM:-0600
TZOFFSETTO:-0500
TZNAME:CDT
DTSTART:20250309T080000
END:DAYLIGHT
BEGIN:STANDARD
TZOFFSETFROM:-0500
TZOFFSETTO:-0600
TZNAME:CST
DTSTART:20251102T070000
END:STANDARD
BEGIN:DAYLIGHT
TZOFFSETFROM:-0600
TZOFFSETTO:-0500
TZNAME:CDT
DTSTART:20260308T080000
END:DAYLIGHT
BEGIN:STANDARD
TZOFFSETFROM:-0500
TZOFFSETTO:-0600
TZNAME:CST
DTSTART:20261101T070000
END:STANDARD
END:VTIMEZONE
BEGIN:VEVENT
DTSTART;TZID=America/Chicago:20251219T000000
DTEND;TZID=America/Chicago:20251219T235959
DTSTAMP:20260422T170709
CREATED:20250528T182328Z
LAST-MODIFIED:20250528T182329Z
UID:10000855-1766102400-1766188799@sageracademy.com
SUMMARY:Christmas Break for Staff (no classes)
DESCRIPTION:
URL:https://sageracademy.com/event/christmas-break-for-staff-no-classes-2/2025-12-19/
END:VEVENT
BEGIN:VEVENT
DTSTART;TZID=America/Chicago:20251218T080000
DTEND;TZID=America/Chicago:20251218T082000
DTSTAMP:20260422T170709
CREATED:20250523T163011Z
LAST-MODIFIED:20250805T143016Z
UID:10000960-1766044800-1766046000@sageracademy.com
SUMMARY:Upper School Parent Chapel @new SCA US campus
DESCRIPTION:At our new SCA Upper School campus: 1405 W Jefferson\, Siloam Springs
URL:https://sageracademy.com/event/upper-school-parent-chapel-new-sca-us-campus/2025-12-18/
END:VEVENT
BEGIN:VEVENT
DTSTART;TZID=America/Chicago:20251218T000000
DTEND;TZID=America/Chicago:20251218T235959
DTSTAMP:20260422T170709
CREATED:20250528T182209Z
LAST-MODIFIED:20250528T182211Z
UID:10000854-1766016000-1766102399@sageracademy.com
SUMMARY:Upper School dismiss @noon
DESCRIPTION:
URL:https://sageracademy.com/event/upper-school-dismiss-noon/
END:VEVENT
BEGIN:VEVENT
DTSTART;TZID=America/Chicago:20251218T000000
DTEND;TZID=America/Chicago:20251218T235959
DTSTAMP:20260422T170709
CREATED:20250528T182137Z
LAST-MODIFIED:20250528T182139Z
UID:10000853-1766016000-1766102399@sageracademy.com
SUMMARY:Last Day of Fall Semester
DESCRIPTION:
URL:https://sageracademy.com/event/last-day-of-fall-semester/
END:VEVENT
BEGIN:VEVENT
DTSTART;TZID=America/Chicago:20251218T000000
DTEND;TZID=America/Chicago:20251218T235959
DTSTAMP:20260422T170709
CREATED:20250523T162008Z
LAST-MODIFIED:20250523T162010Z
UID:10000712-1766016000-1766102399@sageracademy.com
SUMMARY:Lower School Spirit Day
DESCRIPTION:
URL:https://sageracademy.com/event/lower-school-spirit-day/2025-12-18/
END:VEVENT
BEGIN:VEVENT
DTSTART;TZID=America/Chicago:20251216T190000
DTEND;TZID=America/Chicago:20251216T210000
DTSTAMP:20260422T170710
CREATED:20250528T182026Z
LAST-MODIFIED:20250528T182028Z
UID:10000852-1765911600-1765918800@sageracademy.com
SUMMARY:SCA Staff Christmas Party @ Rapinchuk's
DESCRIPTION:
URL:https://sageracademy.com/event/sca-staff-christmas-party-rapinchuks/
END:VEVENT
BEGIN:VEVENT
DTSTART;TZID=America/Chicago:20251216T080000
DTEND;TZID=America/Chicago:20251216T090000
DTSTAMP:20260422T170710
CREATED:20250528T181920Z
LAST-MODIFIED:20251208T170736Z
UID:10000851-1765872000-1765875600@sageracademy.com
SUMMARY:Upper School Christmas Chapel @SCA US campus
DESCRIPTION:
URL:https://sageracademy.com/event/upper-school-christmas-chapel-new-sca-us-campus/
END:VEVENT
BEGIN:VEVENT
DTSTART;TZID=America/Chicago:20251212T000000
DTEND;TZID=America/Chicago:20251212T235959
DTSTAMP:20260422T170710
CREATED:20250523T162141Z
LAST-MODIFIED:20250523T162143Z
UID:10000749-1765497600-1765583999@sageracademy.com
SUMMARY:Upper School Spirit Day
DESCRIPTION:
URL:https://sageracademy.com/event/upper-school-spirit-day/2025-12-12/
END:VEVENT
BEGIN:VEVENT
DTSTART;TZID=America/Chicago:20251211T000000
DTEND;TZID=America/Chicago:20251211T235959
DTSTAMP:20260422T170710
CREATED:20250523T162008Z
LAST-MODIFIED:20250523T162010Z
UID:10000711-1765411200-1765497599@sageracademy.com
SUMMARY:Lower School Spirit Day
DESCRIPTION:
URL:https://sageracademy.com/event/lower-school-spirit-day/2025-12-11/
END:VEVENT
BEGIN:VEVENT
DTSTART;TZID=America/Chicago:20251210T083000
DTEND;TZID=America/Chicago:20251210T100000
DTSTAMP:20260422T170710
CREATED:20250528T181807Z
LAST-MODIFIED:20250528T181809Z
UID:10000850-1765355400-1765360800@sageracademy.com
SUMMARY:Lower School Christmas Recitation @CCF
DESCRIPTION:
URL:https://sageracademy.com/event/lower-school-christmas-recitation-ccf-3/
END:VEVENT
BEGIN:VEVENT
DTSTART;TZID=America/Chicago:20251205T000000
DTEND;TZID=America/Chicago:20251205T235959
DTSTAMP:20260422T170710
CREATED:20250523T162141Z
LAST-MODIFIED:20250523T162143Z
UID:10000748-1764892800-1764979199@sageracademy.com
SUMMARY:Upper School Spirit Day
DESCRIPTION:
URL:https://sageracademy.com/event/upper-school-spirit-day/2025-12-05/
END:VEVENT
BEGIN:VEVENT
DTSTART;TZID=America/Chicago:20251204T130000
DTEND;TZID=America/Chicago:20251204T150000
DTSTAMP:20260422T170710
CREATED:20250523T163544Z
LAST-MODIFIED:20250523T163545Z
UID:10000821-1764853200-1764860400@sageracademy.com
SUMMARY:Lower School Teacher Meeting
DESCRIPTION:
URL:https://sageracademy.com/event/lower-school-teacher-meeting/2025-12-04/
END:VEVENT
BEGIN:VEVENT
DTSTART;TZID=America/Chicago:20251204T080000
DTEND;TZID=America/Chicago:20251204T082000
DTSTAMP:20260422T170710
CREATED:20250523T163011Z
LAST-MODIFIED:20250805T143016Z
UID:10000958-1764835200-1764836400@sageracademy.com
SUMMARY:Upper School Parent Chapel @new SCA US campus
DESCRIPTION:At our new SCA Upper School campus: 1405 W Jefferson\, Siloam Springs
URL:https://sageracademy.com/event/upper-school-parent-chapel-new-sca-us-campus/2025-12-04/
END:VEVENT
BEGIN:VEVENT
DTSTART;TZID=America/Chicago:20251204T000000
DTEND;TZID=America/Chicago:20251204T235959
DTSTAMP:20260422T170710
CREATED:20250528T175920Z
LAST-MODIFIED:20250528T175923Z
UID:10000832-1764806400-1764892799@sageracademy.com
SUMMARY:Pizza Day!
DESCRIPTION:
URL:https://sageracademy.com/event/pizza-day-8/2025-12-04/
END:VEVENT
BEGIN:VEVENT
DTSTART;TZID=America/Chicago:20251204T000000
DTEND;TZID=America/Chicago:20251204T235959
DTSTAMP:20260422T170710
CREATED:20250523T162008Z
LAST-MODIFIED:20250523T162010Z
UID:10000710-1764806400-1764892799@sageracademy.com
SUMMARY:Lower School Spirit Day
DESCRIPTION:
URL:https://sageracademy.com/event/lower-school-spirit-day/2025-12-04/
END:VEVENT
BEGIN:VEVENT
DTSTART;TZID=America/Chicago:20251203T080000
DTEND;TZID=America/Chicago:20251203T093000
DTSTAMP:20260422T170710
CREATED:20250528T181538Z
LAST-MODIFIED:20250528T194351Z
UID:10000848-1764748800-1764754200@sageracademy.com
SUMMARY:Upper School Preview @new SCA US campus
DESCRIPTION:1405 W Jefferson Street\, Siloam Springs\, AR
URL:https://sageracademy.com/event/upper-school-preview-day-new-sca-us-campus/
END:VEVENT
BEGIN:VEVENT
DTSTART;TZID=America/Chicago:20251202T150000
DTEND;TZID=America/Chicago:20251202T163000
DTSTAMP:20260422T170710
CREATED:20250528T181418Z
LAST-MODIFIED:20250528T181420Z
UID:10000847-1764687600-1764693000@sageracademy.com
SUMMARY:Upper School Teacher Meeting
DESCRIPTION:
URL:https://sageracademy.com/event/upper-school-teacher-meeting-2/
END:VEVENT
BEGIN:VEVENT
DTSTART;TZID=America/Chicago:20251128T000000
DTEND;TZID=America/Chicago:20251128T235959
DTSTAMP:20260422T170710
CREATED:20250528T180712Z
LAST-MODIFIED:20250528T180713Z
UID:10000845-1764288000-1764374399@sageracademy.com
SUMMARY:Thanksgiving Break (no classes)
DESCRIPTION:
URL:https://sageracademy.com/event/thanksgiving-break-no-classes-2/2025-11-28/
END:VEVENT
BEGIN:VEVENT
DTSTART;TZID=America/Chicago:20251127T000000
DTEND;TZID=America/Chicago:20251127T235959
DTSTAMP:20260422T170710
CREATED:20250528T180712Z
LAST-MODIFIED:20250528T180713Z
UID:10000844-1764201600-1764287999@sageracademy.com
SUMMARY:Thanksgiving Break (no classes)
DESCRIPTION:
URL:https://sageracademy.com/event/thanksgiving-break-no-classes-2/2025-11-27/
END:VEVENT
BEGIN:VEVENT
DTSTART;TZID=America/Chicago:20251126T000000
DTEND;TZID=America/Chicago:20251126T235959
DTSTAMP:20260422T170710
CREATED:20250528T180712Z
LAST-MODIFIED:20250528T180713Z
UID:10000843-1764115200-1764201599@sageracademy.com
SUMMARY:Thanksgiving Break (no classes)
DESCRIPTION:
URL:https://sageracademy.com/event/thanksgiving-break-no-classes-2/2025-11-26/
END:VEVENT
BEGIN:VEVENT
DTSTART;TZID=America/Chicago:20251125T000000
DTEND;TZID=America/Chicago:20251125T235959
DTSTAMP:20260422T170710
CREATED:20250528T180712Z
LAST-MODIFIED:20250528T180713Z
UID:10000842-1764028800-1764115199@sageracademy.com
SUMMARY:Thanksgiving Break (no classes)
DESCRIPTION:
URL:https://sageracademy.com/event/thanksgiving-break-no-classes-2/2025-11-25/
END:VEVENT
BEGIN:VEVENT
DTSTART;TZID=America/Chicago:20251124T000000
DTEND;TZID=America/Chicago:20251124T235959
DTSTAMP:20260422T170710
CREATED:20250528T180712Z
LAST-MODIFIED:20250528T180713Z
UID:10000841-1763942400-1764028799@sageracademy.com
SUMMARY:Thanksgiving Break (no classes)
DESCRIPTION:
URL:https://sageracademy.com/event/thanksgiving-break-no-classes-2/2025-11-24/
END:VEVENT
BEGIN:VEVENT
DTSTART;TZID=America/Chicago:20251121T000000
DTEND;TZID=America/Chicago:20251121T235959
DTSTAMP:20260422T170710
CREATED:20250523T162141Z
LAST-MODIFIED:20250523T162143Z
UID:10000746-1763683200-1763769599@sageracademy.com
SUMMARY:Upper School Spirit Day
DESCRIPTION:
URL:https://sageracademy.com/event/upper-school-spirit-day/2025-11-21/
END:VEVENT
BEGIN:VEVENT
DTSTART;TZID=America/Chicago:20251120T080000
DTEND;TZID=America/Chicago:20251120T082000
DTSTAMP:20260422T170710
CREATED:20250523T163011Z
LAST-MODIFIED:20250805T143016Z
UID:10000956-1763625600-1763626800@sageracademy.com
SUMMARY:Upper School Parent Chapel @new SCA US campus
DESCRIPTION:At our new SCA Upper School campus: 1405 W Jefferson\, Siloam Springs
URL:https://sageracademy.com/event/upper-school-parent-chapel-new-sca-us-campus/2025-11-20/
END:VEVENT
BEGIN:VEVENT
DTSTART;TZID=America/Chicago:20251120T000000
DTEND;TZID=America/Chicago:20251120T235959
DTSTAMP:20260422T170710
CREATED:20250523T162008Z
LAST-MODIFIED:20250523T162010Z
UID:10000708-1763596800-1763683199@sageracademy.com
SUMMARY:Lower School Spirit Day
DESCRIPTION:
URL:https://sageracademy.com/event/lower-school-spirit-day/2025-11-20/
END:VEVENT
BEGIN:VEVENT
DTSTART;TZID=America/Chicago:20251118T174500
DTEND;TZID=America/Chicago:20251118T193000
DTSTAMP:20260422T170710
CREATED:20250829T170116Z
LAST-MODIFIED:20251029T143015Z
UID:10001017-1763487900-1763494200@sageracademy.com
SUMMARY:4th Annual Fall Feast @Camp Siloam
DESCRIPTION:
URL:https://sageracademy.com/event/4th-annual-fall-feast-camp-siloam/
END:VEVENT
BEGIN:VEVENT
DTSTART;TZID=America/Chicago:20251114T000000
DTEND;TZID=America/Chicago:20251114T235959
DTSTAMP:20260422T170710
CREATED:20250523T162141Z
LAST-MODIFIED:20250523T162143Z
UID:10000745-1763078400-1763164799@sageracademy.com
SUMMARY:Upper School Spirit Day
DESCRIPTION:
URL:https://sageracademy.com/event/upper-school-spirit-day/2025-11-14/
END:VEVENT
BEGIN:VEVENT
DTSTART;TZID=America/Chicago:20251113T080000
DTEND;TZID=America/Chicago:20251113T082000
DTSTAMP:20260422T170710
CREATED:20250523T163011Z
LAST-MODIFIED:20250805T143016Z
UID:10000955-1763020800-1763022000@sageracademy.com
SUMMARY:Upper School Parent Chapel @new SCA US campus
DESCRIPTION:At our new SCA Upper School campus: 1405 W Jefferson\, Siloam Springs
URL:https://sageracademy.com/event/upper-school-parent-chapel-new-sca-us-campus/2025-11-13/
END:VEVENT
BEGIN:VEVENT
DTSTART;TZID=America/Chicago:20251113T000000
DTEND;TZID=America/Chicago:20251113T235959
DTSTAMP:20260422T170710
CREATED:20250523T162008Z
LAST-MODIFIED:20250523T162010Z
UID:10000707-1762992000-1763078399@sageracademy.com
SUMMARY:Lower School Spirit Day
DESCRIPTION:
URL:https://sageracademy.com/event/lower-school-spirit-day/2025-11-13/
END:VEVENT
BEGIN:VEVENT
DTSTART;TZID=America/Chicago:20251112T080000
DTEND;TZID=America/Chicago:20251112T093000
DTSTAMP:20260422T170710
CREATED:20250528T180612Z
LAST-MODIFIED:20250528T194240Z
UID:10000840-1762934400-1762939800@sageracademy.com
SUMMARY:Upper School Preview (Thrailkill-6th grade) @new SCA US campus
DESCRIPTION:
URL:https://sageracademy.com/event/upper-school-preview-day-thrailkill-6th-grade-new-sca-us-campus/
END:VEVENT
END:VCALENDAR