BEGIN:VCALENDAR
VERSION:2.0
PRODID:-//Sager Classical Academy - ECPv6.15.20//NONSGML v1.0//EN
CALSCALE:GREGORIAN
METHOD:PUBLISH
X-WR-CALNAME:Sager Classical Academy
X-ORIGINAL-URL:https://sageracademy.com
X-WR-CALDESC:Events for Sager Classical Academy
REFRESH-INTERVAL;VALUE=DURATION:PT1H
X-Robots-Tag:noindex
X-PUBLISHED-TTL:PT1H
BEGIN:VTIMEZONE
TZID:America/Chicago
BEGIN:DAYLIGHT
TZOFFSETFROM:-0600
TZOFFSETTO:-0500
TZNAME:CDT
DTSTART:20240310T080000
END:DAYLIGHT
BEGIN:STANDARD
TZOFFSETFROM:-0500
TZOFFSETTO:-0600
TZNAME:CST
DTSTART:20241103T070000
END:STANDARD
BEGIN:DAYLIGHT
TZOFFSETFROM:-0600
TZOFFSETTO:-0500
TZNAME:CDT
DTSTART:20250309T080000
END:DAYLIGHT
BEGIN:STANDARD
TZOFFSETFROM:-0500
TZOFFSETTO:-0600
TZNAME:CST
DTSTART:20251102T070000
END:STANDARD
BEGIN:DAYLIGHT
TZOFFSETFROM:-0600
TZOFFSETTO:-0500
TZNAME:CDT
DTSTART:20260308T080000
END:DAYLIGHT
BEGIN:STANDARD
TZOFFSETFROM:-0500
TZOFFSETTO:-0600
TZNAME:CST
DTSTART:20261101T070000
END:STANDARD
END:VTIMEZONE
BEGIN:VEVENT
DTSTART;TZID=America/Chicago:20250918T000000
DTEND;TZID=America/Chicago:20250918T235959
DTSTAMP:20260422T175234
CREATED:20250523T162008Z
LAST-MODIFIED:20250523T162010Z
UID:10000699-1758153600-1758239999@sageracademy.com
SUMMARY:Lower School Spirit Day
DESCRIPTION:
URL:https://sageracademy.com/event/lower-school-spirit-day/2025-09-18/
END:VEVENT
BEGIN:VEVENT
DTSTART;TZID=America/Chicago:20250917T090000
DTEND;TZID=America/Chicago:20250917T140000
DTSTAMP:20260422T175234
CREATED:20250819T192726Z
LAST-MODIFIED:20250819T192728Z
UID:10001015-1758099600-1758117600@sageracademy.com
SUMMARY:Fall Picture Day
DESCRIPTION:
URL:https://sageracademy.com/event/fall-picture-day-2/
END:VEVENT
BEGIN:VEVENT
DTSTART;TZID=America/Chicago:20250912T000000
DTEND;TZID=America/Chicago:20250912T235959
DTSTAMP:20260422T175234
CREATED:20250523T162141Z
LAST-MODIFIED:20250523T162143Z
UID:10000736-1757635200-1757721599@sageracademy.com
SUMMARY:Upper School Spirit Day
DESCRIPTION:
URL:https://sageracademy.com/event/upper-school-spirit-day/2025-09-12/
END:VEVENT
BEGIN:VEVENT
DTSTART;TZID=America/Chicago:20250911T080000
DTEND;TZID=America/Chicago:20250911T082000
DTSTAMP:20260422T175234
CREATED:20250523T163011Z
LAST-MODIFIED:20250805T143016Z
UID:10000946-1757577600-1757578800@sageracademy.com
SUMMARY:Upper School Parent Chapel @new SCA US campus
DESCRIPTION:At our new SCA Upper School campus: 1405 W Jefferson\, Siloam Springs
URL:https://sageracademy.com/event/upper-school-parent-chapel-new-sca-us-campus/2025-09-11/
END:VEVENT
BEGIN:VEVENT
DTSTART;TZID=America/Chicago:20250911T000000
DTEND;TZID=America/Chicago:20250911T235959
DTSTAMP:20260422T175234
CREATED:20250523T162008Z
LAST-MODIFIED:20250523T162010Z
UID:10000698-1757548800-1757635199@sageracademy.com
SUMMARY:Lower School Spirit Day
DESCRIPTION:
URL:https://sageracademy.com/event/lower-school-spirit-day/2025-09-11/
END:VEVENT
BEGIN:VEVENT
DTSTART;TZID=America/Chicago:20250905T000000
DTEND;TZID=America/Chicago:20250905T235959
DTSTAMP:20260422T175234
CREATED:20250523T162141Z
LAST-MODIFIED:20250523T162143Z
UID:10000735-1757030400-1757116799@sageracademy.com
SUMMARY:Upper School Spirit Day
DESCRIPTION:
URL:https://sageracademy.com/event/upper-school-spirit-day/2025-09-05/
END:VEVENT
BEGIN:VEVENT
DTSTART;TZID=America/Chicago:20250904T130000
DTEND;TZID=America/Chicago:20250904T150000
DTSTAMP:20260422T175234
CREATED:20250523T163544Z
LAST-MODIFIED:20250523T163545Z
UID:10000818-1756990800-1756998000@sageracademy.com
SUMMARY:Lower School Teacher Meeting
DESCRIPTION:
URL:https://sageracademy.com/event/lower-school-teacher-meeting/2025-09-04/
END:VEVENT
BEGIN:VEVENT
DTSTART;TZID=America/Chicago:20250904T083000
DTEND;TZID=America/Chicago:20250904T093000
DTSTAMP:20260422T175234
CREATED:20250523T160056Z
LAST-MODIFIED:20250805T143654Z
UID:10000681-1756974600-1756978200@sageracademy.com
SUMMARY:Lower School: Donuts with Dr. Rap @CCF
DESCRIPTION:
URL:https://sageracademy.com/event/lower-school-pastries-with-parents-ccf-7/
END:VEVENT
BEGIN:VEVENT
DTSTART;TZID=America/Chicago:20250904T080500
DTEND;TZID=America/Chicago:20250904T083000
DTSTAMP:20260422T175234
CREATED:20250523T163254Z
LAST-MODIFIED:20250523T163256Z
UID:10000808-1756973100-1756974600@sageracademy.com
SUMMARY:Lower School Parent Chapel @CCF
DESCRIPTION:
URL:https://sageracademy.com/event/lower-school-parent-chapel-ccf-14/2025-09-04/
END:VEVENT
BEGIN:VEVENT
DTSTART;TZID=America/Chicago:20250904T080000
DTEND;TZID=America/Chicago:20250904T082000
DTSTAMP:20260422T175234
CREATED:20250523T163011Z
LAST-MODIFIED:20250805T143016Z
UID:10000945-1756972800-1756974000@sageracademy.com
SUMMARY:Upper School Parent Chapel @new SCA US campus
DESCRIPTION:At our new SCA Upper School campus: 1405 W Jefferson\, Siloam Springs
URL:https://sageracademy.com/event/upper-school-parent-chapel-new-sca-us-campus/2025-09-04/
END:VEVENT
BEGIN:VEVENT
DTSTART;TZID=America/Chicago:20250904T000000
DTEND;TZID=America/Chicago:20250904T235959
DTSTAMP:20260422T175234
CREATED:20250528T183046Z
LAST-MODIFIED:20250528T183046Z
UID:10000891-1756944000-1757030399@sageracademy.com
SUMMARY:Pizza Day!
DESCRIPTION:
URL:https://sageracademy.com/event/pizza-day-9/
END:VEVENT
BEGIN:VEVENT
DTSTART;TZID=America/Chicago:20250904T000000
DTEND;TZID=America/Chicago:20250904T235959
DTSTAMP:20260422T175234
CREATED:20250523T162008Z
LAST-MODIFIED:20250523T162010Z
UID:10000697-1756944000-1757030399@sageracademy.com
SUMMARY:Lower School Spirit Day
DESCRIPTION:
URL:https://sageracademy.com/event/lower-school-spirit-day/2025-09-04/
END:VEVENT
BEGIN:VEVENT
DTSTART;TZID=America/Chicago:20250902T150000
DTEND;TZID=America/Chicago:20250902T163000
DTSTAMP:20260422T175234
CREATED:20250523T155701Z
LAST-MODIFIED:20250523T155703Z
UID:10000680-1756825200-1756830600@sageracademy.com
SUMMARY:US Teacher Meeting
DESCRIPTION:
URL:https://sageracademy.com/event/us-teacher-meeting/
END:VEVENT
BEGIN:VEVENT
DTSTART;TZID=America/Chicago:20250901T000000
DTEND;TZID=America/Chicago:20250901T235959
DTSTAMP:20260422T175234
CREATED:20250523T155407Z
LAST-MODIFIED:20250523T155408Z
UID:10000679-1756684800-1756771199@sageracademy.com
SUMMARY:Labor Day (no classes)
DESCRIPTION:
URL:https://sageracademy.com/event/labor-day-no-classes-2/
END:VEVENT
BEGIN:VEVENT
DTSTART;TZID=America/Chicago:20250829T000000
DTEND;TZID=America/Chicago:20250829T235959
DTSTAMP:20260422T175234
CREATED:20250523T162141Z
LAST-MODIFIED:20250523T162143Z
UID:10000734-1756425600-1756511999@sageracademy.com
SUMMARY:Upper School Spirit Day
DESCRIPTION:
URL:https://sageracademy.com/event/upper-school-spirit-day/2025-08-29/
END:VEVENT
BEGIN:VEVENT
DTSTART;TZID=America/Chicago:20250828T080500
DTEND;TZID=America/Chicago:20250828T090500
DTSTAMP:20260422T175234
CREATED:20250806T201057Z
LAST-MODIFIED:20250806T201100Z
UID:10001014-1756368300-1756371900@sageracademy.com
SUMMARY:Lower School Parent/Teacher Meet & Greet @CCF
DESCRIPTION:
URL:https://sageracademy.com/event/lower-school-parent-teacher-meet-greet-ccf/
END:VEVENT
BEGIN:VEVENT
DTSTART;TZID=America/Chicago:20250828T080000
DTEND;TZID=America/Chicago:20250828T082000
DTSTAMP:20260422T175234
CREATED:20250523T163011Z
LAST-MODIFIED:20250805T143016Z
UID:10000944-1756368000-1756369200@sageracademy.com
SUMMARY:Upper School Parent Chapel @new SCA US campus
DESCRIPTION:At our new SCA Upper School campus: 1405 W Jefferson\, Siloam Springs
URL:https://sageracademy.com/event/upper-school-parent-chapel-new-sca-us-campus/2025-08-28/
END:VEVENT
BEGIN:VEVENT
DTSTART;TZID=America/Chicago:20250828T000000
DTEND;TZID=America/Chicago:20250828T235959
DTSTAMP:20260422T175234
CREATED:20250523T162008Z
LAST-MODIFIED:20250523T162010Z
UID:10000696-1756339200-1756425599@sageracademy.com
SUMMARY:Lower School Spirit Day
DESCRIPTION:
URL:https://sageracademy.com/event/lower-school-spirit-day/2025-08-28/
END:VEVENT
BEGIN:VEVENT
DTSTART;TZID=America/Chicago:20250822T000000
DTEND;TZID=America/Chicago:20250822T235959
DTSTAMP:20260422T175234
CREATED:20250523T162141Z
LAST-MODIFIED:20250523T162143Z
UID:10000733-1755820800-1755907199@sageracademy.com
SUMMARY:Upper School Spirit Day
DESCRIPTION:
URL:https://sageracademy.com/event/upper-school-spirit-day/2025-08-22/
END:VEVENT
BEGIN:VEVENT
DTSTART;TZID=America/Chicago:20250821T110000
DTEND;TZID=America/Chicago:20250821T121500
DTSTAMP:20260422T175234
CREATED:20250523T155029Z
LAST-MODIFIED:20250523T155030Z
UID:10000678-1755774000-1755778500@sageracademy.com
SUMMARY:Make-up session for mandatory Parent Orientation @CCF
DESCRIPTION:
URL:https://sageracademy.com/event/make-up-session-for-mandatory-parent-orientation-ccf-2/
END:VEVENT
BEGIN:VEVENT
DTSTART;TZID=America/Chicago:20250821T000000
DTEND;TZID=America/Chicago:20250821T235959
DTSTAMP:20260422T175234
CREATED:20250523T162008Z
LAST-MODIFIED:20250523T162010Z
UID:10000695-1755734400-1755820799@sageracademy.com
SUMMARY:Lower School Spirit Day
DESCRIPTION:
URL:https://sageracademy.com/event/lower-school-spirit-day/2025-08-21/
END:VEVENT
BEGIN:VEVENT
DTSTART;TZID=America/Chicago:20250820T000000
DTEND;TZID=America/Chicago:20250820T235959
DTSTAMP:20260422T175234
CREATED:20250523T154928Z
LAST-MODIFIED:20250523T154930Z
UID:10000677-1755648000-1755734399@sageracademy.com
SUMMARY:First Day of School!
DESCRIPTION:
URL:https://sageracademy.com/event/first-day-of-school-2/
END:VEVENT
BEGIN:VEVENT
DTSTART;TZID=America/Chicago:20250818T190000
DTEND;TZID=America/Chicago:20250818T203000
DTSTAMP:20260422T175234
CREATED:20250523T154857Z
LAST-MODIFIED:20250523T154859Z
UID:10000676-1755543600-1755549000@sageracademy.com
SUMMARY:Upper School Family Night @new SCA US campus
DESCRIPTION:
URL:https://sageracademy.com/event/upper-school-family-night-new-sca-us-campus/
END:VEVENT
BEGIN:VEVENT
DTSTART;TZID=America/Chicago:20250818T170000
DTEND;TZID=America/Chicago:20250818T183000
DTSTAMP:20260422T175234
CREATED:20250523T154642Z
LAST-MODIFIED:20250523T154645Z
UID:10000675-1755536400-1755541800@sageracademy.com
SUMMARY:Lower School Family Night & Open House @CCF
DESCRIPTION:
URL:https://sageracademy.com/event/lower-school-family-night-open-house-ccf/
END:VEVENT
BEGIN:VEVENT
DTSTART;TZID=America/Chicago:20250815T000000
DTEND;TZID=America/Chicago:20250815T235959
DTSTAMP:20260422T175234
CREATED:20250523T154306Z
LAST-MODIFIED:20250523T154308Z
UID:10000673-1755216000-1755302399@sageracademy.com
SUMMARY:All staff Professional Development (no classes)
DESCRIPTION:
URL:https://sageracademy.com/event/all-staff-professional-development-no-classes/2025-08-15/
END:VEVENT
BEGIN:VEVENT
DTSTART;TZID=America/Chicago:20250814T183000
DTEND;TZID=America/Chicago:20250814T200000
DTSTAMP:20260422T175234
CREATED:20250523T154514Z
LAST-MODIFIED:20250523T155214Z
UID:10000674-1755196200-1755201600@sageracademy.com
SUMMARY:Mandatory Parent Orientation (All parents\, no students) @ new SCA US Campus
DESCRIPTION:This event will take place at our new SCA Upper School Campus: 1405 W Jefferson Street\, Siloam Springs
URL:https://sageracademy.com/event/mandatory-parent-orientation-all-parents-no-students-new-sca-us-campus/
END:VEVENT
BEGIN:VEVENT
DTSTART;TZID=America/Chicago:20250814T000000
DTEND;TZID=America/Chicago:20250814T235959
DTSTAMP:20260422T175234
CREATED:20250523T154306Z
LAST-MODIFIED:20250523T154308Z
UID:10000672-1755129600-1755215999@sageracademy.com
SUMMARY:All staff Professional Development (no classes)
DESCRIPTION:
URL:https://sageracademy.com/event/all-staff-professional-development-no-classes/2025-08-14/
END:VEVENT
BEGIN:VEVENT
DTSTART;TZID=America/Chicago:20250813T000000
DTEND;TZID=America/Chicago:20250813T235959
DTSTAMP:20260422T175234
CREATED:20250523T154306Z
LAST-MODIFIED:20250523T154308Z
UID:10000671-1755043200-1755129599@sageracademy.com
SUMMARY:All staff Professional Development (no classes)
DESCRIPTION:
URL:https://sageracademy.com/event/all-staff-professional-development-no-classes/2025-08-13/
END:VEVENT
BEGIN:VEVENT
DTSTART;TZID=America/Chicago:20250812T000000
DTEND;TZID=America/Chicago:20250812T235959
DTSTAMP:20260422T175234
CREATED:20250523T154306Z
LAST-MODIFIED:20250523T154308Z
UID:10000670-1754956800-1755043199@sageracademy.com
SUMMARY:All staff Professional Development (no classes)
DESCRIPTION:
URL:https://sageracademy.com/event/all-staff-professional-development-no-classes/2025-08-12/
END:VEVENT
BEGIN:VEVENT
DTSTART;TZID=America/Chicago:20250811T080000
DTEND;TZID=America/Chicago:20250811T160000
DTSTAMP:20260422T175234
CREATED:20250523T154126Z
LAST-MODIFIED:20250523T154127Z
UID:10000669-1754899200-1754928000@sageracademy.com
SUMMARY:New Teacher Professional Development (no classes)
DESCRIPTION:
URL:https://sageracademy.com/event/new-teacher-professional-development-no-classes/
END:VEVENT
END:VCALENDAR