BEGIN:VCALENDAR
VERSION:2.0
PRODID:-//Sager Classical Academy - ECPv6.15.20//NONSGML v1.0//EN
CALSCALE:GREGORIAN
METHOD:PUBLISH
X-WR-CALNAME:Sager Classical Academy
X-ORIGINAL-URL:https://sageracademy.com
X-WR-CALDESC:Events for Sager Classical Academy
REFRESH-INTERVAL;VALUE=DURATION:PT1H
X-Robots-Tag:noindex
X-PUBLISHED-TTL:PT1H
BEGIN:VTIMEZONE
TZID:America/Chicago
BEGIN:DAYLIGHT
TZOFFSETFROM:-0600
TZOFFSETTO:-0500
TZNAME:CDT
DTSTART:20250309T080000
END:DAYLIGHT
BEGIN:STANDARD
TZOFFSETFROM:-0500
TZOFFSETTO:-0600
TZNAME:CST
DTSTART:20251102T070000
END:STANDARD
BEGIN:DAYLIGHT
TZOFFSETFROM:-0600
TZOFFSETTO:-0500
TZNAME:CDT
DTSTART:20260308T080000
END:DAYLIGHT
BEGIN:STANDARD
TZOFFSETFROM:-0500
TZOFFSETTO:-0600
TZNAME:CST
DTSTART:20261101T070000
END:STANDARD
BEGIN:DAYLIGHT
TZOFFSETFROM:-0600
TZOFFSETTO:-0500
TZNAME:CDT
DTSTART:20270314T080000
END:DAYLIGHT
BEGIN:STANDARD
TZOFFSETFROM:-0500
TZOFFSETTO:-0600
TZNAME:CST
DTSTART:20271107T070000
END:STANDARD
END:VTIMEZONE
BEGIN:VEVENT
DTSTART;TZID=America/Chicago:20260513T000000
DTEND;TZID=America/Chicago:20260513T235959
DTSTAMP:20260422T170411
CREATED:20250528T192045Z
LAST-MODIFIED:20250528T192047Z
UID:10000936-1778630400-1778716799@sageracademy.com
SUMMARY:Last Day of School!
DESCRIPTION:
URL:https://sageracademy.com/event/last-day-of-school-4/
END:VEVENT
BEGIN:VEVENT
DTSTART;TZID=America/Chicago:20260508T181500
DTEND;TZID=America/Chicago:20260508T210000
DTSTAMP:20260422T170411
CREATED:20250528T191908Z
LAST-MODIFIED:20250529T213340Z
UID:10000935-1778264100-1778274000@sageracademy.com
SUMMARY:Evening at the Academy @CCF
DESCRIPTION:
URL:https://sageracademy.com/event/evening-at-the-academy-2/
END:VEVENT
BEGIN:VEVENT
DTSTART;TZID=America/Chicago:20260508T000000
DTEND;TZID=America/Chicago:20260508T235959
DTSTAMP:20260422T170411
CREATED:20250528T191256Z
LAST-MODIFIED:20250528T191258Z
UID:10000933-1778198400-1778284799@sageracademy.com
SUMMARY:Teacher Appreciation Week
DESCRIPTION:
URL:https://sageracademy.com/event/teacher-appreciation-week-4/2026-05-08/
END:VEVENT
BEGIN:VEVENT
DTSTART;TZID=America/Chicago:20260508T000000
DTEND;TZID=America/Chicago:20260508T235959
DTSTAMP:20260422T170411
CREATED:20250523T162141Z
LAST-MODIFIED:20250523T162143Z
UID:10000770-1778198400-1778284799@sageracademy.com
SUMMARY:Upper School Spirit Day
DESCRIPTION:
URL:https://sageracademy.com/event/upper-school-spirit-day/2026-05-08/
END:VEVENT
BEGIN:VEVENT
DTSTART;TZID=America/Chicago:20260507T083000
DTEND;TZID=America/Chicago:20260507T093000
DTSTAMP:20260422T170411
CREATED:20250528T191648Z
LAST-MODIFIED:20250528T191650Z
UID:10000934-1778142600-1778146200@sageracademy.com
SUMMARY:Kindergarten Graduation @CCF
DESCRIPTION:
URL:https://sageracademy.com/event/kindergarten-graduation-ccf/
END:VEVENT
BEGIN:VEVENT
DTSTART;TZID=America/Chicago:20260507T080500
DTEND;TZID=America/Chicago:20260507T083000
DTSTAMP:20260422T170411
CREATED:20250523T163254Z
LAST-MODIFIED:20250523T163256Z
UID:10000816-1778141100-1778142600@sageracademy.com
SUMMARY:Lower School Parent Chapel @CCF
DESCRIPTION:
URL:https://sageracademy.com/event/lower-school-parent-chapel-ccf-14/2026-05-07/
END:VEVENT
BEGIN:VEVENT
DTSTART;TZID=America/Chicago:20260507T000000
DTEND;TZID=America/Chicago:20260507T235959
DTSTAMP:20260422T170411
CREATED:20250528T191256Z
LAST-MODIFIED:20250528T191258Z
UID:10000932-1778112000-1778198399@sageracademy.com
SUMMARY:Teacher Appreciation Week
DESCRIPTION:
URL:https://sageracademy.com/event/teacher-appreciation-week-4/2026-05-07/
END:VEVENT
BEGIN:VEVENT
DTSTART;TZID=America/Chicago:20260507T000000
DTEND;TZID=America/Chicago:20260507T235959
DTSTAMP:20260422T170411
CREATED:20250523T162008Z
LAST-MODIFIED:20250523T162010Z
UID:10000732-1778112000-1778198399@sageracademy.com
SUMMARY:Lower School Spirit Day
DESCRIPTION:
URL:https://sageracademy.com/event/lower-school-spirit-day/2026-05-07/
END:VEVENT
BEGIN:VEVENT
DTSTART;TZID=America/Chicago:20260506T000000
DTEND;TZID=America/Chicago:20260506T235959
DTSTAMP:20260422T170411
CREATED:20250528T191256Z
LAST-MODIFIED:20250528T191258Z
UID:10000931-1778025600-1778111999@sageracademy.com
SUMMARY:Teacher Appreciation Week
DESCRIPTION:
URL:https://sageracademy.com/event/teacher-appreciation-week-4/2026-05-06/
END:VEVENT
BEGIN:VEVENT
DTSTART;TZID=America/Chicago:20260505T000000
DTEND;TZID=America/Chicago:20260505T235959
DTSTAMP:20260422T170411
CREATED:20250528T191256Z
LAST-MODIFIED:20250528T191258Z
UID:10000930-1777939200-1778025599@sageracademy.com
SUMMARY:Teacher Appreciation Week
DESCRIPTION:
URL:https://sageracademy.com/event/teacher-appreciation-week-4/2026-05-05/
END:VEVENT
BEGIN:VEVENT
DTSTART;TZID=America/Chicago:20260504T000000
DTEND;TZID=America/Chicago:20260504T235959
DTSTAMP:20260422T170411
CREATED:20250528T191256Z
LAST-MODIFIED:20250528T191258Z
UID:10000929-1777852800-1777939199@sageracademy.com
SUMMARY:Teacher Appreciation Week
DESCRIPTION:
URL:https://sageracademy.com/event/teacher-appreciation-week-4/2026-05-04/
END:VEVENT
BEGIN:VEVENT
DTSTART;TZID=America/Chicago:20260501T000000
DTEND;TZID=America/Chicago:20260501T235959
DTSTAMP:20260422T170411
CREATED:20250523T162141Z
LAST-MODIFIED:20250523T162143Z
UID:10000769-1777593600-1777679999@sageracademy.com
SUMMARY:Upper School Spirit Day
DESCRIPTION:
URL:https://sageracademy.com/event/upper-school-spirit-day/2026-05-01/
END:VEVENT
BEGIN:VEVENT
DTSTART;TZID=America/Chicago:20260430T080000
DTEND;TZID=America/Chicago:20260430T082000
DTSTAMP:20260422T170411
CREATED:20250523T163011Z
LAST-MODIFIED:20250805T143016Z
UID:10000979-1777536000-1777537200@sageracademy.com
SUMMARY:Upper School Parent Chapel @new SCA US campus
DESCRIPTION:At our new SCA Upper School campus: 1405 W Jefferson\, Siloam Springs
URL:https://sageracademy.com/event/upper-school-parent-chapel-new-sca-us-campus/2026-04-30/
END:VEVENT
BEGIN:VEVENT
DTSTART;TZID=America/Chicago:20260430T000000
DTEND;TZID=America/Chicago:20260430T235959
DTSTAMP:20260422T170411
CREATED:20250523T162008Z
LAST-MODIFIED:20250523T162010Z
UID:10000731-1777507200-1777593599@sageracademy.com
SUMMARY:Lower School Spirit Day
DESCRIPTION:
URL:https://sageracademy.com/event/lower-school-spirit-day/2026-04-30/
END:VEVENT
BEGIN:VEVENT
DTSTART;TZID=America/Chicago:20260424T000000
DTEND;TZID=America/Chicago:20260424T235959
DTSTAMP:20260422T170411
CREATED:20250523T162141Z
LAST-MODIFIED:20250523T162143Z
UID:10000768-1776988800-1777075199@sageracademy.com
SUMMARY:Upper School Spirit Day
DESCRIPTION:
URL:https://sageracademy.com/event/upper-school-spirit-day/2026-04-24/
END:VEVENT
BEGIN:VEVENT
DTSTART;TZID=America/Chicago:20260423T080000
DTEND;TZID=America/Chicago:20260423T082000
DTSTAMP:20260422T170411
CREATED:20250523T163011Z
LAST-MODIFIED:20250805T143016Z
UID:10000978-1776931200-1776932400@sageracademy.com
SUMMARY:Upper School Parent Chapel @new SCA US campus
DESCRIPTION:At our new SCA Upper School campus: 1405 W Jefferson\, Siloam Springs
URL:https://sageracademy.com/event/upper-school-parent-chapel-new-sca-us-campus/2026-04-23/
END:VEVENT
BEGIN:VEVENT
DTSTART;TZID=America/Chicago:20260423T000000
DTEND;TZID=America/Chicago:20260423T235959
DTSTAMP:20260422T170411
CREATED:20250523T162008Z
LAST-MODIFIED:20250523T162010Z
UID:10000730-1776902400-1776988799@sageracademy.com
SUMMARY:Lower School Spirit Day
DESCRIPTION:
URL:https://sageracademy.com/event/lower-school-spirit-day/2026-04-23/
END:VEVENT
BEGIN:VEVENT
DTSTART;TZID=America/Chicago:20260417T000000
DTEND;TZID=America/Chicago:20260417T235959
DTSTAMP:20260422T170411
CREATED:20250523T162141Z
LAST-MODIFIED:20250523T162143Z
UID:10000767-1776384000-1776470399@sageracademy.com
SUMMARY:Upper School Spirit Day
DESCRIPTION:
URL:https://sageracademy.com/event/upper-school-spirit-day/2026-04-17/
END:VEVENT
BEGIN:VEVENT
DTSTART;TZID=America/Chicago:20260416T080000
DTEND;TZID=America/Chicago:20260416T082000
DTSTAMP:20260422T170411
CREATED:20250523T163011Z
LAST-MODIFIED:20250805T143016Z
UID:10000977-1776326400-1776327600@sageracademy.com
SUMMARY:Upper School Parent Chapel @new SCA US campus
DESCRIPTION:At our new SCA Upper School campus: 1405 W Jefferson\, Siloam Springs
URL:https://sageracademy.com/event/upper-school-parent-chapel-new-sca-us-campus/2026-04-16/
END:VEVENT
BEGIN:VEVENT
DTSTART;TZID=America/Chicago:20260416T000000
DTEND;TZID=America/Chicago:20260416T235959
DTSTAMP:20260422T170411
CREATED:20250523T162008Z
LAST-MODIFIED:20250523T162010Z
UID:10000729-1776297600-1776383999@sageracademy.com
SUMMARY:Lower School Spirit Day
DESCRIPTION:
URL:https://sageracademy.com/event/lower-school-spirit-day/2026-04-16/
END:VEVENT
BEGIN:VEVENT
DTSTART;TZID=America/Chicago:20260414T190000
DTEND;TZID=America/Chicago:20260414T200000
DTSTAMP:20260422T170411
CREATED:20250528T191202Z
LAST-MODIFIED:20250528T191204Z
UID:10000928-1776193200-1776196800@sageracademy.com
SUMMARY:State of the School Address @new SCA US campus
DESCRIPTION:
URL:https://sageracademy.com/event/state-of-the-school-address-new-sca-us-campus/
END:VEVENT
BEGIN:VEVENT
DTSTART;TZID=America/Chicago:20260414T180000
DTEND;TZID=America/Chicago:20260414T190000
DTSTAMP:20260422T170411
CREATED:20260402T140753Z
LAST-MODIFIED:20260402T144352Z
UID:10001079-1776189600-1776193200@sageracademy.com
SUMMARY:Meet Jerrie Price our new US Dean
DESCRIPTION:At Upper School campus\, 1405 W Jefferson Street
URL:https://sageracademy.com/event/meet-jeri-price-our-new-us-dean/
END:VEVENT
BEGIN:VEVENT
DTSTART;TZID=America/Chicago:20260410T000000
DTEND;TZID=America/Chicago:20260410T235959
DTSTAMP:20260422T170411
CREATED:20250523T162141Z
LAST-MODIFIED:20250523T162143Z
UID:10000766-1775779200-1775865599@sageracademy.com
SUMMARY:Upper School Spirit Day
DESCRIPTION:
URL:https://sageracademy.com/event/upper-school-spirit-day/2026-04-10/
END:VEVENT
BEGIN:VEVENT
DTSTART;TZID=America/Chicago:20260409T080000
DTEND;TZID=America/Chicago:20260409T082000
DTSTAMP:20260422T170411
CREATED:20250523T163011Z
LAST-MODIFIED:20250805T143016Z
UID:10000976-1775721600-1775722800@sageracademy.com
SUMMARY:Upper School Parent Chapel @new SCA US campus
DESCRIPTION:At our new SCA Upper School campus: 1405 W Jefferson\, Siloam Springs
URL:https://sageracademy.com/event/upper-school-parent-chapel-new-sca-us-campus/2026-04-09/
END:VEVENT
BEGIN:VEVENT
DTSTART;TZID=America/Chicago:20260409T000000
DTEND;TZID=America/Chicago:20260409T235959
DTSTAMP:20260422T170411
CREATED:20250523T162008Z
LAST-MODIFIED:20250523T162010Z
UID:10000728-1775692800-1775779199@sageracademy.com
SUMMARY:Lower School Spirit Day
DESCRIPTION:
URL:https://sageracademy.com/event/lower-school-spirit-day/2026-04-09/
END:VEVENT
BEGIN:VEVENT
DTSTART;TZID=America/Chicago:20260407T150000
DTEND;TZID=America/Chicago:20260407T163000
DTSTAMP:20260422T170411
CREATED:20250528T191118Z
LAST-MODIFIED:20250528T191120Z
UID:10000927-1775574000-1775579400@sageracademy.com
SUMMARY:Upper School Teacher Meeting
DESCRIPTION:
URL:https://sageracademy.com/event/upper-school-teacher-meeting-5/
END:VEVENT
BEGIN:VEVENT
DTSTART;TZID=America/Chicago:20260407T000000
DTEND;TZID=America/Chicago:20260407T235959
DTSTAMP:20260422T170411
CREATED:20260316T162209Z
LAST-MODIFIED:20260330T193707Z
UID:10001065-1775520000-1775606399@sageracademy.com
SUMMARY:Spring Picture Day
DESCRIPTION:
URL:https://sageracademy.com/event/spring-picture-day-2/
END:VEVENT
BEGIN:VEVENT
DTSTART;TZID=America/Chicago:20260406T000000
DTEND;TZID=America/Chicago:20260406T235959
DTSTAMP:20260422T170411
CREATED:20250528T191008Z
LAST-MODIFIED:20250528T191009Z
UID:10000926-1775433600-1775519999@sageracademy.com
SUMMARY:Easter Monday (no classes)
DESCRIPTION:
URL:https://sageracademy.com/event/easter-monday-no-classes/
END:VEVENT
BEGIN:VEVENT
DTSTART;TZID=America/Chicago:20260403T000000
DTEND;TZID=America/Chicago:20260403T235959
DTSTAMP:20260422T170411
CREATED:20250528T190938Z
LAST-MODIFIED:20250528T190940Z
UID:10000925-1775174400-1775260799@sageracademy.com
SUMMARY:Good Friday (no classes)
DESCRIPTION:
URL:https://sageracademy.com/event/good-friday-no-classes-2/
END:VEVENT
BEGIN:VEVENT
DTSTART;TZID=America/Chicago:20260402T130000
DTEND;TZID=America/Chicago:20260402T150000
DTSTAMP:20260422T170411
CREATED:20250523T163544Z
LAST-MODIFIED:20250523T163545Z
UID:10000825-1775134800-1775142000@sageracademy.com
SUMMARY:Lower School Teacher Meeting
DESCRIPTION:
URL:https://sageracademy.com/event/lower-school-teacher-meeting/2026-04-02/
END:VEVENT
END:VCALENDAR