BEGIN:VCALENDAR
VERSION:2.0
PRODID:-//Sager Classical Academy - ECPv6.15.20//NONSGML v1.0//EN
CALSCALE:GREGORIAN
METHOD:PUBLISH
X-WR-CALNAME:Sager Classical Academy
X-ORIGINAL-URL:https://sageracademy.com
X-WR-CALDESC:Events for Sager Classical Academy
REFRESH-INTERVAL;VALUE=DURATION:PT1H
X-Robots-Tag:noindex
X-PUBLISHED-TTL:PT1H
BEGIN:VTIMEZONE
TZID:America/Chicago
BEGIN:DAYLIGHT
TZOFFSETFROM:-0600
TZOFFSETTO:-0500
TZNAME:CDT
DTSTART:20240310T080000
END:DAYLIGHT
BEGIN:STANDARD
TZOFFSETFROM:-0500
TZOFFSETTO:-0600
TZNAME:CST
DTSTART:20241103T070000
END:STANDARD
BEGIN:DAYLIGHT
TZOFFSETFROM:-0600
TZOFFSETTO:-0500
TZNAME:CDT
DTSTART:20250309T080000
END:DAYLIGHT
BEGIN:STANDARD
TZOFFSETFROM:-0500
TZOFFSETTO:-0600
TZNAME:CST
DTSTART:20251102T070000
END:STANDARD
BEGIN:DAYLIGHT
TZOFFSETFROM:-0600
TZOFFSETTO:-0500
TZNAME:CDT
DTSTART:20260308T080000
END:DAYLIGHT
BEGIN:STANDARD
TZOFFSETFROM:-0500
TZOFFSETTO:-0600
TZNAME:CST
DTSTART:20261101T070000
END:STANDARD
END:VTIMEZONE
BEGIN:VEVENT
DTSTART;TZID=America/Chicago:20250305T020000
DTEND;TZID=America/Chicago:20250305T033000
DTSTAMP:20260423T085250
CREATED:20240722T221626Z
LAST-MODIFIED:20240722T221628Z
UID:10000399-1741140000-1741145400@sageracademy.com
SUMMARY:Upper School Preview Day @First Church
DESCRIPTION:
URL:https://sageracademy.com/event/upper-school-preview-day-first-church-8/
END:VEVENT
BEGIN:VEVENT
DTSTART;TZID=America/Chicago:20250305T020000
DTEND;TZID=America/Chicago:20250305T022500
DTSTAMP:20260423T085250
CREATED:20240722T230127Z
LAST-MODIFIED:20240722T230130Z
UID:10000566-1741140000-1741141500@sageracademy.com
SUMMARY:Upper School Parent Chapel @First Church
DESCRIPTION:
URL:https://sageracademy.com/event/upper-school-parent-chapel-first-church-8/2025-03-05/
END:VEVENT
BEGIN:VEVENT
DTSTART;TZID=America/Chicago:20250228T123000
DTEND;TZID=America/Chicago:20250228T133000
DTSTAMP:20260423T085250
CREATED:20250115T042410Z
LAST-MODIFIED:20250115T042412Z
UID:10000635-1740745800-1740749400@sageracademy.com
SUMMARY:Lower School Student Showcase: "Let There Be Light" Evening Performance @Sager Creek Community Church
DESCRIPTION:Tickets: $10.  Location: Sager Creek Community Church\, 1600 Cheri Whitlock Drive\, Siloam Springs.
URL:https://sageracademy.com/event/lower-school-student-showcase-let-there-be-light-evening-performance-sager-creek-community-church/
END:VEVENT
BEGIN:VEVENT
DTSTART;TZID=America/Chicago:20250228T050000
DTEND;TZID=America/Chicago:20250228T060000
DTSTAMP:20260423T085250
CREATED:20250115T042221Z
LAST-MODIFIED:20250115T042224Z
UID:10000634-1740718800-1740722400@sageracademy.com
SUMMARY:Lower School Student Showcase: "Let There Be Light" Morning Performance @Sager Creek Community Church
DESCRIPTION:Tickets: $10.  Location: Sager Creek Community Church\, 1600 Cheri Whitlock Drive\, Siloam Springs.
URL:https://sageracademy.com/event/lower-school-student-showcase-let-there-be-light-morning-performance-sager-creek-community-church/
END:VEVENT
BEGIN:VEVENT
DTSTART;TZID=America/Chicago:20250227T180000
DTEND;TZID=America/Chicago:20250228T175959
DTSTAMP:20260423T085251
CREATED:20240722T224456Z
LAST-MODIFIED:20240722T224501Z
UID:10000475-1740679200-1740765599@sageracademy.com
SUMMARY:Upper School SCA Spirit Day
DESCRIPTION:Wear your favorite SCA logo shirt!
URL:https://sageracademy.com/event/upper-school-sca-spirit-day-3/2025-02-28/
END:VEVENT
BEGIN:VEVENT
DTSTART;TZID=America/Chicago:20250226T180000
DTEND;TZID=America/Chicago:20250227T175959
DTSTAMP:20260423T085251
CREATED:20240722T223643Z
LAST-MODIFIED:20240722T223645Z
UID:10000437-1740592800-1740679199@sageracademy.com
SUMMARY:Lower School SCA Spirit Day
DESCRIPTION:Wear your favorite SCA logo shirt!
URL:https://sageracademy.com/event/lower-school-sca-spirit-day-5/2025-02-27/
END:VEVENT
BEGIN:VEVENT
DTSTART;TZID=America/Chicago:20250226T020000
DTEND;TZID=America/Chicago:20250226T022500
DTSTAMP:20260423T085251
CREATED:20240722T230127Z
LAST-MODIFIED:20240722T230130Z
UID:10000565-1740535200-1740536700@sageracademy.com
SUMMARY:Upper School Parent Chapel @First Church
DESCRIPTION:
URL:https://sageracademy.com/event/upper-school-parent-chapel-first-church-8/2025-02-26/
END:VEVENT
BEGIN:VEVENT
DTSTART;TZID=America/Chicago:20250221T120000
DTEND;TZID=America/Chicago:20250221T143000
DTSTAMP:20260423T085251
CREATED:20250207T081742Z
LAST-MODIFIED:20250222T014642Z
UID:10000642-1740139200-1740148200@sageracademy.com
SUMMARY:Upper School Feast & Folk Dance
DESCRIPTION:Held at the Community Building. Tickets are $30.
URL:https://sageracademy.com/event/upper-school-feast-folk-dance/
END:VEVENT
BEGIN:VEVENT
DTSTART;TZID=America/Chicago:20250220T180000
DTEND;TZID=America/Chicago:20250221T175959
DTSTAMP:20260423T085251
CREATED:20240722T224456Z
LAST-MODIFIED:20240722T224501Z
UID:10000474-1740074400-1740160799@sageracademy.com
SUMMARY:Upper School SCA Spirit Day
DESCRIPTION:Wear your favorite SCA logo shirt!
URL:https://sageracademy.com/event/upper-school-sca-spirit-day-3/2025-02-21/
END:VEVENT
BEGIN:VEVENT
DTSTART;TZID=America/Chicago:20250219T180000
DTEND;TZID=America/Chicago:20250220T175959
DTSTAMP:20260423T085251
CREATED:20240722T223643Z
LAST-MODIFIED:20240722T223645Z
UID:10000436-1739988000-1740074399@sageracademy.com
SUMMARY:Lower School SCA Spirit Day
DESCRIPTION:Wear your favorite SCA logo shirt!
URL:https://sageracademy.com/event/lower-school-sca-spirit-day-5/2025-02-20/
END:VEVENT
BEGIN:VEVENT
DTSTART;TZID=America/Chicago:20250219T020000
DTEND;TZID=America/Chicago:20250219T022500
DTSTAMP:20260423T085251
CREATED:20240722T230127Z
LAST-MODIFIED:20240722T230130Z
UID:10000564-1739930400-1739931900@sageracademy.com
SUMMARY:Upper School Parent Chapel @First Church
DESCRIPTION:
URL:https://sageracademy.com/event/upper-school-parent-chapel-first-church-8/2025-02-19/
END:VEVENT
BEGIN:VEVENT
DTSTART;TZID=America/Chicago:20250216T180000
DTEND;TZID=America/Chicago:20250217T175959
DTSTAMP:20260423T085251
CREATED:20250115T074951Z
LAST-MODIFIED:20250115T074954Z
UID:10000636-1739728800-1739815199@sageracademy.com
SUMMARY:Presidents' Day-No School
DESCRIPTION:
URL:https://sageracademy.com/event/presidents-day-no-school/
END:VEVENT
BEGIN:VEVENT
DTSTART;TZID=America/Chicago:20250213T180000
DTEND;TZID=America/Chicago:20250214T175959
DTSTAMP:20260423T085251
CREATED:20240722T224456Z
LAST-MODIFIED:20240722T224501Z
UID:10000473-1739469600-1739555999@sageracademy.com
SUMMARY:Upper School SCA Spirit Day
DESCRIPTION:Wear your favorite SCA logo shirt!
URL:https://sageracademy.com/event/upper-school-sca-spirit-day-3/2025-02-14/
END:VEVENT
BEGIN:VEVENT
DTSTART;TZID=America/Chicago:20250213T180000
DTEND;TZID=America/Chicago:20250214T175959
DTSTAMP:20260423T085251
CREATED:20240722T220933Z
LAST-MODIFIED:20240722T220935Z
UID:10000395-1739469600-1739555999@sageracademy.com
SUMMARY:Loved Ones Luncheon (4th-6th Grades @CCF)
DESCRIPTION:
URL:https://sageracademy.com/event/loved-ones-luncheon-4th-6th-grades-ccf/
END:VEVENT
BEGIN:VEVENT
DTSTART;TZID=America/Chicago:20250212T180000
DTEND;TZID=America/Chicago:20250213T175959
DTSTAMP:20260423T085251
CREATED:20240722T223643Z
LAST-MODIFIED:20240722T223645Z
UID:10000435-1739383200-1739469599@sageracademy.com
SUMMARY:Lower School SCA Spirit Day
DESCRIPTION:Wear your favorite SCA logo shirt!
URL:https://sageracademy.com/event/lower-school-sca-spirit-day-5/2025-02-13/
END:VEVENT
BEGIN:VEVENT
DTSTART;TZID=America/Chicago:20250212T020000
DTEND;TZID=America/Chicago:20250212T022500
DTSTAMP:20260423T085251
CREATED:20240722T230127Z
LAST-MODIFIED:20240722T230130Z
UID:10000563-1739325600-1739327100@sageracademy.com
SUMMARY:Upper School Parent Chapel @First Church
DESCRIPTION:
URL:https://sageracademy.com/event/upper-school-parent-chapel-first-church-8/2025-02-12/
END:VEVENT
BEGIN:VEVENT
DTSTART;TZID=America/Chicago:20250206T180000
DTEND;TZID=America/Chicago:20250207T175959
DTSTAMP:20260423T085251
CREATED:20240722T224456Z
LAST-MODIFIED:20240722T224501Z
UID:10000472-1738864800-1738951199@sageracademy.com
SUMMARY:Upper School SCA Spirit Day
DESCRIPTION:Wear your favorite SCA logo shirt!
URL:https://sageracademy.com/event/upper-school-sca-spirit-day-3/2025-02-07/
END:VEVENT
BEGIN:VEVENT
DTSTART;TZID=America/Chicago:20250206T023000
DTEND;TZID=America/Chicago:20250206T033000
DTSTAMP:20260423T085251
CREATED:20240722T220833Z
LAST-MODIFIED:20240722T220835Z
UID:10000394-1738809000-1738812600@sageracademy.com
SUMMARY:Lower School Pastries with Parents @CCF
DESCRIPTION:
URL:https://sageracademy.com/event/lower-school-pastries-with-parents-ccf-5/
END:VEVENT
BEGIN:VEVENT
DTSTART;TZID=America/Chicago:20250206T020500
DTEND;TZID=America/Chicago:20250206T023000
DTSTAMP:20260423T085251
CREATED:20240723T191126Z
LAST-MODIFIED:20240815T223210Z
UID:10000603-1738807500-1738809000@sageracademy.com
SUMMARY:Lower School Parent Chapel @CCF
DESCRIPTION:This will be for all Lower School (PreK-6th) and will be held in the lobby in front of the little chapel.  (Please park on the west or north sides of the building.)
URL:https://sageracademy.com/event/lower-school-parent-chapel-ccf-11/2025-02-06/
END:VEVENT
BEGIN:VEVENT
DTSTART;TZID=America/Chicago:20250205T180000
DTEND;TZID=America/Chicago:20250206T175959
DTSTAMP:20260423T085251
CREATED:20240830T183921Z
LAST-MODIFIED:20240830T183924Z
UID:10000626-1738778400-1738864799@sageracademy.com
SUMMARY:Pizza Day!
DESCRIPTION:
URL:https://sageracademy.com/event/pizza-day-4/2025-02-06/
END:VEVENT
BEGIN:VEVENT
DTSTART;TZID=America/Chicago:20250205T180000
DTEND;TZID=America/Chicago:20250206T175959
DTSTAMP:20260423T085251
CREATED:20240722T223643Z
LAST-MODIFIED:20240722T223645Z
UID:10000434-1738778400-1738864799@sageracademy.com
SUMMARY:Lower School SCA Spirit Day
DESCRIPTION:Wear your favorite SCA logo shirt!
URL:https://sageracademy.com/event/lower-school-sca-spirit-day-5/2025-02-06/
END:VEVENT
BEGIN:VEVENT
DTSTART;TZID=America/Chicago:20250205T020000
DTEND;TZID=America/Chicago:20250205T022500
DTSTAMP:20260423T085251
CREATED:20240722T230127Z
LAST-MODIFIED:20240722T230130Z
UID:10000562-1738720800-1738722300@sageracademy.com
SUMMARY:Upper School Parent Chapel @First Church
DESCRIPTION:
URL:https://sageracademy.com/event/upper-school-parent-chapel-first-church-8/2025-02-05/
END:VEVENT
BEGIN:VEVENT
DTSTART;TZID=America/Chicago:20250131T180000
DTEND;TZID=America/Chicago:20250201T175959
DTSTAMP:20260423T085251
CREATED:20240722T221017Z
LAST-MODIFIED:20241114T221237Z
UID:10000396-1738346400-1738432799@sageracademy.com
SUMMARY:Open Enrollment-New Families Begins
DESCRIPTION:
URL:https://sageracademy.com/event/open-enrollment-new-families-begins/
END:VEVENT
BEGIN:VEVENT
DTSTART;TZID=America/Chicago:20250130T180000
DTEND;TZID=America/Chicago:20250131T175959
DTSTAMP:20260423T085251
CREATED:20240722T224456Z
LAST-MODIFIED:20240722T224501Z
UID:10000471-1738260000-1738346399@sageracademy.com
SUMMARY:Upper School SCA Spirit Day
DESCRIPTION:Wear your favorite SCA logo shirt!
URL:https://sageracademy.com/event/upper-school-sca-spirit-day-3/2025-01-31/
END:VEVENT
BEGIN:VEVENT
DTSTART;TZID=America/Chicago:20250130T130000
DTEND;TZID=America/Chicago:20250130T140000
DTSTAMP:20260423T085251
CREATED:20240722T220533Z
LAST-MODIFIED:20240722T220534Z
UID:10000391-1738242000-1738245600@sageracademy.com
SUMMARY:Information Session for Prospective Parents @CCF
DESCRIPTION:
URL:https://sageracademy.com/event/information-session-for-prospective-parents-ccf/
END:VEVENT
BEGIN:VEVENT
DTSTART;TZID=America/Chicago:20250129T180000
DTEND;TZID=America/Chicago:20250130T175959
DTSTAMP:20260423T085251
CREATED:20240722T223643Z
LAST-MODIFIED:20240722T223645Z
UID:10000433-1738173600-1738259999@sageracademy.com
SUMMARY:Lower School SCA Spirit Day
DESCRIPTION:Wear your favorite SCA logo shirt!
URL:https://sageracademy.com/event/lower-school-sca-spirit-day-5/2025-01-30/
END:VEVENT
BEGIN:VEVENT
DTSTART;TZID=America/Chicago:20250129T020000
DTEND;TZID=America/Chicago:20250129T022500
DTSTAMP:20260423T085251
CREATED:20240722T230127Z
LAST-MODIFIED:20240722T230130Z
UID:10000561-1738116000-1738117500@sageracademy.com
SUMMARY:Upper School Parent Chapel @First Church
DESCRIPTION:
URL:https://sageracademy.com/event/upper-school-parent-chapel-first-church-8/2025-01-29/
END:VEVENT
BEGIN:VEVENT
DTSTART;TZID=America/Chicago:20250123T180000
DTEND;TZID=America/Chicago:20250124T175959
DTSTAMP:20260423T085251
CREATED:20240722T224456Z
LAST-MODIFIED:20240722T224501Z
UID:10000470-1737655200-1737741599@sageracademy.com
SUMMARY:Upper School SCA Spirit Day
DESCRIPTION:Wear your favorite SCA logo shirt!
URL:https://sageracademy.com/event/upper-school-sca-spirit-day-3/2025-01-24/
END:VEVENT
BEGIN:VEVENT
DTSTART;TZID=America/Chicago:20250122T180000
DTEND;TZID=America/Chicago:20250123T175959
DTSTAMP:20260423T085251
CREATED:20240722T223643Z
LAST-MODIFIED:20240722T223645Z
UID:10000432-1737568800-1737655199@sageracademy.com
SUMMARY:Lower School SCA Spirit Day
DESCRIPTION:Wear your favorite SCA logo shirt!
URL:https://sageracademy.com/event/lower-school-sca-spirit-day-5/2025-01-23/
END:VEVENT
BEGIN:VEVENT
DTSTART;TZID=America/Chicago:20250122T020000
DTEND;TZID=America/Chicago:20250122T033000
DTSTAMP:20260423T085251
CREATED:20250111T000940Z
LAST-MODIFIED:20250111T000943Z
UID:10000633-1737511200-1737516600@sageracademy.com
SUMMARY:Upper School Preview Day @First Church
DESCRIPTION:
URL:https://sageracademy.com/event/upper-school-preview-day-first-church-11/
END:VEVENT
END:VCALENDAR