BEGIN:VCALENDAR
VERSION:2.0
PRODID:-//Sager Classical Academy - ECPv6.15.20//NONSGML v1.0//EN
CALSCALE:GREGORIAN
METHOD:PUBLISH
X-WR-CALNAME:Sager Classical Academy
X-ORIGINAL-URL:https://sageracademy.com
X-WR-CALDESC:Events for Sager Classical Academy
REFRESH-INTERVAL;VALUE=DURATION:PT1H
X-Robots-Tag:noindex
X-PUBLISHED-TTL:PT1H
BEGIN:VTIMEZONE
TZID:America/Chicago
BEGIN:DAYLIGHT
TZOFFSETFROM:-0600
TZOFFSETTO:-0500
TZNAME:CDT
DTSTART:20240310T080000
END:DAYLIGHT
BEGIN:STANDARD
TZOFFSETFROM:-0500
TZOFFSETTO:-0600
TZNAME:CST
DTSTART:20241103T070000
END:STANDARD
BEGIN:DAYLIGHT
TZOFFSETFROM:-0600
TZOFFSETTO:-0500
TZNAME:CDT
DTSTART:20250309T080000
END:DAYLIGHT
BEGIN:STANDARD
TZOFFSETFROM:-0500
TZOFFSETTO:-0600
TZNAME:CST
DTSTART:20251102T070000
END:STANDARD
BEGIN:DAYLIGHT
TZOFFSETFROM:-0600
TZOFFSETTO:-0500
TZNAME:CDT
DTSTART:20260308T080000
END:DAYLIGHT
BEGIN:STANDARD
TZOFFSETFROM:-0500
TZOFFSETTO:-0600
TZNAME:CST
DTSTART:20261101T070000
END:STANDARD
END:VTIMEZONE
BEGIN:VEVENT
DTSTART;TZID=America/Chicago:20250507T190000
DTEND;TZID=America/Chicago:20250508T185959
DTSTAMP:20260423T040623
CREATED:20240722T223643Z
LAST-MODIFIED:20240722T223645Z
UID:10000447-1746644400-1746730799@sageracademy.com
SUMMARY:Lower School SCA Spirit Day
DESCRIPTION:Wear your favorite SCA logo shirt!
URL:https://sageracademy.com/event/lower-school-sca-spirit-day-5/2025-05-08/
END:VEVENT
BEGIN:VEVENT
DTSTART;TZID=America/Chicago:20250507T030000
DTEND;TZID=America/Chicago:20250507T032500
DTSTAMP:20260423T040623
CREATED:20240722T230127Z
LAST-MODIFIED:20240722T230130Z
UID:10000575-1746586800-1746588300@sageracademy.com
SUMMARY:Upper School Parent Chapel @First Church
DESCRIPTION:
URL:https://sageracademy.com/event/upper-school-parent-chapel-first-church-8/2025-05-07/
END:VEVENT
BEGIN:VEVENT
DTSTART;TZID=America/Chicago:20250504T190000
DTEND;TZID=America/Chicago:20250509T185959
DTSTAMP:20260423T040623
CREATED:20240722T222621Z
LAST-MODIFIED:20240722T222623Z
UID:10000408-1746385200-1746817199@sageracademy.com
SUMMARY:Teacher Appreciation Week
DESCRIPTION:
URL:https://sageracademy.com/event/teacher-appreciation-week-3/
END:VEVENT
BEGIN:VEVENT
DTSTART;TZID=America/Chicago:20250501T190000
DTEND;TZID=America/Chicago:20250502T185959
DTSTAMP:20260423T040623
CREATED:20250207T081842Z
LAST-MODIFIED:20250207T081844Z
UID:10000643-1746126000-1746212399@sageracademy.com
SUMMARY:Evening at the Academy
DESCRIPTION:
URL:https://sageracademy.com/event/evening-at-the-academy/
END:VEVENT
BEGIN:VEVENT
DTSTART;TZID=America/Chicago:20250501T190000
DTEND;TZID=America/Chicago:20250502T185959
DTSTAMP:20260423T040623
CREATED:20240722T224456Z
LAST-MODIFIED:20240722T224501Z
UID:10000484-1746126000-1746212399@sageracademy.com
SUMMARY:Upper School SCA Spirit Day
DESCRIPTION:Wear your favorite SCA logo shirt!
URL:https://sageracademy.com/event/upper-school-sca-spirit-day-3/2025-05-02/
END:VEVENT
BEGIN:VEVENT
DTSTART;TZID=America/Chicago:20250430T190000
DTEND;TZID=America/Chicago:20250501T185959
DTSTAMP:20260423T040623
CREATED:20240722T223643Z
LAST-MODIFIED:20240722T223645Z
UID:10000446-1746039600-1746125999@sageracademy.com
SUMMARY:Lower School SCA Spirit Day
DESCRIPTION:Wear your favorite SCA logo shirt!
URL:https://sageracademy.com/event/lower-school-sca-spirit-day-5/2025-05-01/
END:VEVENT
BEGIN:VEVENT
DTSTART;TZID=America/Chicago:20250430T030000
DTEND;TZID=America/Chicago:20250430T032500
DTSTAMP:20260423T040623
CREATED:20240722T230127Z
LAST-MODIFIED:20240722T230130Z
UID:10000574-1745982000-1745983500@sageracademy.com
SUMMARY:Upper School Parent Chapel @First Church
DESCRIPTION:
URL:https://sageracademy.com/event/upper-school-parent-chapel-first-church-8/2025-04-30/
END:VEVENT
BEGIN:VEVENT
DTSTART;TZID=America/Chicago:20250424T190000
DTEND;TZID=America/Chicago:20250425T185959
DTSTAMP:20260423T040623
CREATED:20240722T224456Z
LAST-MODIFIED:20240722T224501Z
UID:10000483-1745521200-1745607599@sageracademy.com
SUMMARY:Upper School SCA Spirit Day
DESCRIPTION:Wear your favorite SCA logo shirt!
URL:https://sageracademy.com/event/upper-school-sca-spirit-day-3/2025-04-25/
END:VEVENT
BEGIN:VEVENT
DTSTART;TZID=America/Chicago:20250423T190000
DTEND;TZID=America/Chicago:20250424T185959
DTSTAMP:20260423T040623
CREATED:20240722T223643Z
LAST-MODIFIED:20240722T223645Z
UID:10000445-1745434800-1745521199@sageracademy.com
SUMMARY:Lower School SCA Spirit Day
DESCRIPTION:Wear your favorite SCA logo shirt!
URL:https://sageracademy.com/event/lower-school-sca-spirit-day-5/2025-04-24/
END:VEVENT
BEGIN:VEVENT
DTSTART;TZID=America/Chicago:20250423T030000
DTEND;TZID=America/Chicago:20250423T032500
DTSTAMP:20260423T040623
CREATED:20240722T230127Z
LAST-MODIFIED:20240722T230130Z
UID:10000573-1745377200-1745378700@sageracademy.com
SUMMARY:Upper School Parent Chapel @First Church
DESCRIPTION:
URL:https://sageracademy.com/event/upper-school-parent-chapel-first-church-8/2025-04-23/
END:VEVENT
BEGIN:VEVENT
DTSTART;TZID=America/Chicago:20250417T190000
DTEND;TZID=America/Chicago:20250418T185959
DTSTAMP:20260423T040623
CREATED:20240722T222323Z
LAST-MODIFIED:20240722T222324Z
UID:10000405-1744916400-1745002799@sageracademy.com
SUMMARY:Good Friday-No School
DESCRIPTION:
URL:https://sageracademy.com/event/good-friday-no-school/
END:VEVENT
BEGIN:VEVENT
DTSTART;TZID=America/Chicago:20250416T190000
DTEND;TZID=America/Chicago:20250417T185959
DTSTAMP:20260423T040623
CREATED:20240722T223643Z
LAST-MODIFIED:20240722T223645Z
UID:10000444-1744830000-1744916399@sageracademy.com
SUMMARY:Lower School SCA Spirit Day
DESCRIPTION:Wear your favorite SCA logo shirt!
URL:https://sageracademy.com/event/lower-school-sca-spirit-day-5/2025-04-17/
END:VEVENT
BEGIN:VEVENT
DTSTART;TZID=America/Chicago:20250416T030000
DTEND;TZID=America/Chicago:20250416T032500
DTSTAMP:20260423T040623
CREATED:20240722T230127Z
LAST-MODIFIED:20240722T230130Z
UID:10000572-1744772400-1744773900@sageracademy.com
SUMMARY:Upper School Parent Chapel @First Church
DESCRIPTION:
URL:https://sageracademy.com/event/upper-school-parent-chapel-first-church-8/2025-04-16/
END:VEVENT
BEGIN:VEVENT
DTSTART;TZID=America/Chicago:20250415T140000
DTEND;TZID=America/Chicago:20250415T150000
DTSTAMP:20260423T040623
CREATED:20250208T075527Z
LAST-MODIFIED:20250208T075532Z
UID:10000644-1744725600-1744729200@sageracademy.com
SUMMARY:State of the School Address (for all current SCA families)
DESCRIPTION:
URL:https://sageracademy.com/event/state-of-the-school-address-for-all-current-sca-families/
END:VEVENT
BEGIN:VEVENT
DTSTART;TZID=America/Chicago:20250410T190000
DTEND;TZID=America/Chicago:20250411T185959
DTSTAMP:20260423T040623
CREATED:20240722T224456Z
LAST-MODIFIED:20240722T224501Z
UID:10000481-1744311600-1744397999@sageracademy.com
SUMMARY:Upper School SCA Spirit Day
DESCRIPTION:Wear your favorite SCA logo shirt!
URL:https://sageracademy.com/event/upper-school-sca-spirit-day-3/2025-04-11/
END:VEVENT
BEGIN:VEVENT
DTSTART;TZID=America/Chicago:20250409T190000
DTEND;TZID=America/Chicago:20250410T185959
DTSTAMP:20260423T040623
CREATED:20240722T223643Z
LAST-MODIFIED:20240722T223645Z
UID:10000443-1744225200-1744311599@sageracademy.com
SUMMARY:Lower School SCA Spirit Day
DESCRIPTION:Wear your favorite SCA logo shirt!
URL:https://sageracademy.com/event/lower-school-sca-spirit-day-5/2025-04-10/
END:VEVENT
BEGIN:VEVENT
DTSTART;TZID=America/Chicago:20250409T033000
DTEND;TZID=America/Chicago:20250409T043000
DTSTAMP:20260423T040623
CREATED:20250123T022037Z
LAST-MODIFIED:20250123T022039Z
UID:10000641-1744169400-1744173000@sageracademy.com
SUMMARY:Information Session for Prospective Parents @CCF
DESCRIPTION:
URL:https://sageracademy.com/event/information-session-for-prospective-parents-ccf-6/
END:VEVENT
BEGIN:VEVENT
DTSTART;TZID=America/Chicago:20250409T030000
DTEND;TZID=America/Chicago:20250409T032500
DTSTAMP:20260423T040623
CREATED:20240722T230127Z
LAST-MODIFIED:20240722T230130Z
UID:10000571-1744167600-1744169100@sageracademy.com
SUMMARY:Upper School Parent Chapel @First Church
DESCRIPTION:
URL:https://sageracademy.com/event/upper-school-parent-chapel-first-church-8/2025-04-09/
END:VEVENT
BEGIN:VEVENT
DTSTART;TZID=America/Chicago:20250403T190000
DTEND;TZID=America/Chicago:20250404T185959
DTSTAMP:20260423T040623
CREATED:20240722T224456Z
LAST-MODIFIED:20240722T224501Z
UID:10000480-1743706800-1743793199@sageracademy.com
SUMMARY:Upper School SCA Spirit Day
DESCRIPTION:Wear your favorite SCA logo shirt!
URL:https://sageracademy.com/event/upper-school-sca-spirit-day-3/2025-04-04/
END:VEVENT
BEGIN:VEVENT
DTSTART;TZID=America/Chicago:20250403T030500
DTEND;TZID=America/Chicago:20250403T033000
DTSTAMP:20260423T040623
CREATED:20240723T191126Z
LAST-MODIFIED:20240815T223210Z
UID:10000611-1743649500-1743651000@sageracademy.com
SUMMARY:Lower School Parent Chapel @CCF
DESCRIPTION:This will be for all Lower School (PreK-6th) and will be held in the lobby in front of the little chapel.  (Please park on the west or north sides of the building.)
URL:https://sageracademy.com/event/lower-school-parent-chapel-ccf-11/2025-04-03/
END:VEVENT
BEGIN:VEVENT
DTSTART;TZID=America/Chicago:20250402T190000
DTEND;TZID=America/Chicago:20250403T185959
DTSTAMP:20260423T040623
CREATED:20240830T183921Z
LAST-MODIFIED:20240830T183924Z
UID:10000628-1743620400-1743706799@sageracademy.com
SUMMARY:Pizza Day!
DESCRIPTION:
URL:https://sageracademy.com/event/pizza-day-4/2025-04-03/
END:VEVENT
BEGIN:VEVENT
DTSTART;TZID=America/Chicago:20250402T190000
DTEND;TZID=America/Chicago:20250403T185959
DTSTAMP:20260423T040623
CREATED:20240722T223643Z
LAST-MODIFIED:20240722T223645Z
UID:10000442-1743620400-1743706799@sageracademy.com
SUMMARY:Lower School SCA Spirit Day
DESCRIPTION:Wear your favorite SCA logo shirt!
URL:https://sageracademy.com/event/lower-school-sca-spirit-day-5/2025-04-03/
END:VEVENT
BEGIN:VEVENT
DTSTART;TZID=America/Chicago:20250402T030000
DTEND;TZID=America/Chicago:20250402T032500
DTSTAMP:20260423T040623
CREATED:20240722T230127Z
LAST-MODIFIED:20240722T230130Z
UID:10000570-1743562800-1743564300@sageracademy.com
SUMMARY:Upper School Parent Chapel @First Church
DESCRIPTION:
URL:https://sageracademy.com/event/upper-school-parent-chapel-first-church-8/2025-04-02/
END:VEVENT
BEGIN:VEVENT
DTSTART;TZID=America/Chicago:20250323T190000
DTEND;TZID=America/Chicago:20250328T185959
DTSTAMP:20260423T040623
CREATED:20240722T222041Z
LAST-MODIFIED:20240722T222043Z
UID:10000403-1742756400-1743188399@sageracademy.com
SUMMARY:Spring Break-No School
DESCRIPTION:
URL:https://sageracademy.com/event/spring-break-no-school/
END:VEVENT
BEGIN:VEVENT
DTSTART;TZID=America/Chicago:20250320T190000
DTEND;TZID=America/Chicago:20250321T185959
DTSTAMP:20260423T040623
CREATED:20240722T221957Z
LAST-MODIFIED:20240722T222000Z
UID:10000402-1742497200-1742583599@sageracademy.com
SUMMARY:Parent Teacher Conferences-No School
DESCRIPTION:Lower School Parents: attendance required.  Upper School Parents: attendance optional.
URL:https://sageracademy.com/event/parent-teacher-conferences-no-school/
END:VEVENT
BEGIN:VEVENT
DTSTART;TZID=America/Chicago:20250319T190000
DTEND;TZID=America/Chicago:20250320T185959
DTSTAMP:20260423T040623
CREATED:20240722T223643Z
LAST-MODIFIED:20240722T223645Z
UID:10000440-1742410800-1742497199@sageracademy.com
SUMMARY:Lower School SCA Spirit Day
DESCRIPTION:Wear your favorite SCA logo shirt!
URL:https://sageracademy.com/event/lower-school-sca-spirit-day-5/2025-03-20/
END:VEVENT
BEGIN:VEVENT
DTSTART;TZID=America/Chicago:20250319T030000
DTEND;TZID=America/Chicago:20250319T032500
DTSTAMP:20260423T040623
CREATED:20240722T230127Z
LAST-MODIFIED:20240722T230130Z
UID:10000568-1742353200-1742354700@sageracademy.com
SUMMARY:Upper School Parent Chapel @First Church
DESCRIPTION:
URL:https://sageracademy.com/event/upper-school-parent-chapel-first-church-8/2025-03-19/
END:VEVENT
BEGIN:VEVENT
DTSTART;TZID=America/Chicago:20250318T190000
DTEND;TZID=America/Chicago:20250319T185959
DTSTAMP:20260423T040623
CREATED:20250123T015727Z
LAST-MODIFIED:20250123T015729Z
UID:10000637-1742324400-1742410799@sageracademy.com
SUMMARY:Spring Picture Day
DESCRIPTION:
URL:https://sageracademy.com/event/spring-picture-day/
END:VEVENT
BEGIN:VEVENT
DTSTART;TZID=America/Chicago:20250313T190000
DTEND;TZID=America/Chicago:20250314T185959
DTSTAMP:20260423T040623
CREATED:20240722T224456Z
LAST-MODIFIED:20240722T224501Z
UID:10000477-1741892400-1741978799@sageracademy.com
SUMMARY:Upper School SCA Spirit Day
DESCRIPTION:Wear your favorite SCA logo shirt!
URL:https://sageracademy.com/event/upper-school-sca-spirit-day-3/2025-03-14/
END:VEVENT
BEGIN:VEVENT
DTSTART;TZID=America/Chicago:20250313T140000
DTEND;TZID=America/Chicago:20250313T150000
DTSTAMP:20260423T040623
CREATED:20250123T021842Z
LAST-MODIFIED:20250123T021845Z
UID:10000640-1741874400-1741878000@sageracademy.com
SUMMARY:Information Session for Prospective Parents @CCF
DESCRIPTION:
URL:https://sageracademy.com/event/information-session-for-prospective-parents-ccf-5/
END:VEVENT
END:VCALENDAR