BEGIN:VCALENDAR
VERSION:2.0
PRODID:-//Sager Classical Academy - ECPv6.15.20//NONSGML v1.0//EN
CALSCALE:GREGORIAN
METHOD:PUBLISH
X-WR-CALNAME:Sager Classical Academy
X-ORIGINAL-URL:https://sageracademy.com
X-WR-CALDESC:Events for Sager Classical Academy
REFRESH-INTERVAL;VALUE=DURATION:PT1H
X-Robots-Tag:noindex
X-PUBLISHED-TTL:PT1H
BEGIN:VTIMEZONE
TZID:America/Chicago
BEGIN:DAYLIGHT
TZOFFSETFROM:-0600
TZOFFSETTO:-0500
TZNAME:CDT
DTSTART:20260308T080000
END:DAYLIGHT
BEGIN:STANDARD
TZOFFSETFROM:-0500
TZOFFSETTO:-0600
TZNAME:CST
DTSTART:20261101T070000
END:STANDARD
BEGIN:DAYLIGHT
TZOFFSETFROM:-0600
TZOFFSETTO:-0500
TZNAME:CDT
DTSTART:20270314T080000
END:DAYLIGHT
BEGIN:STANDARD
TZOFFSETFROM:-0500
TZOFFSETTO:-0600
TZNAME:CST
DTSTART:20271107T070000
END:STANDARD
BEGIN:DAYLIGHT
TZOFFSETFROM:-0600
TZOFFSETTO:-0500
TZNAME:CDT
DTSTART:20280312T080000
END:DAYLIGHT
BEGIN:STANDARD
TZOFFSETFROM:-0500
TZOFFSETTO:-0600
TZNAME:CST
DTSTART:20281105T070000
END:STANDARD
END:VTIMEZONE
BEGIN:VEVENT
DTSTART;TZID=America/Chicago:20270202T150000
DTEND;TZID=America/Chicago:20270202T163000
DTSTAMP:20260422T165738
CREATED:20260316T152432Z
LAST-MODIFIED:20260316T152438Z
UID:10001041-1801580400-1801585800@sageracademy.com
SUMMARY:US Teacher Meeting
DESCRIPTION:
URL:https://sageracademy.com/event/us-teacher-meeting-3/2027-02-02/
END:VEVENT
BEGIN:VEVENT
DTSTART;TZID=America/Chicago:20270204T000000
DTEND;TZID=America/Chicago:20270204T235959
DTSTAMP:20260422T165738
CREATED:20260316T153159Z
LAST-MODIFIED:20260316T153205Z
UID:10001050-1801699200-1801785599@sageracademy.com
SUMMARY:Pizza Day!
DESCRIPTION:
URL:https://sageracademy.com/event/pizza-day-12/2027-02-04/
END:VEVENT
BEGIN:VEVENT
DTSTART;TZID=America/Chicago:20270204T080500
DTEND;TZID=America/Chicago:20270204T083000
DTSTAMP:20260422T165738
CREATED:20260316T155458Z
LAST-MODIFIED:20260316T155503Z
UID:10001060-1801728300-1801729800@sageracademy.com
SUMMARY:Lower School Parent Chapel @CCF
DESCRIPTION:
URL:https://sageracademy.com/event/lower-school-parent-chapel-ccf-17/2027-02-04/
END:VEVENT
BEGIN:VEVENT
DTSTART;TZID=America/Chicago:20270204T130000
DTEND;TZID=America/Chicago:20270204T143000
DTSTAMP:20260422T165738
CREATED:20260316T162435Z
LAST-MODIFIED:20260316T162440Z
UID:10001071-1801746000-1801751400@sageracademy.com
SUMMARY:LS Teacher Meeting @CCF
DESCRIPTION:
URL:https://sageracademy.com/event/ls-teacher-meeting-ccf/2027-02-04/
END:VEVENT
BEGIN:VEVENT
DTSTART;TZID=America/Chicago:20270302T150000
DTEND;TZID=America/Chicago:20270302T163000
DTSTAMP:20260422T165738
CREATED:20260316T152432Z
LAST-MODIFIED:20260316T152438Z
UID:10001042-1803999600-1804005000@sageracademy.com
SUMMARY:US Teacher Meeting
DESCRIPTION:
URL:https://sageracademy.com/event/us-teacher-meeting-3/2027-03-02/
END:VEVENT
BEGIN:VEVENT
DTSTART;TZID=America/Chicago:20270304T000000
DTEND;TZID=America/Chicago:20270304T235959
DTSTAMP:20260422T165738
CREATED:20260316T153159Z
LAST-MODIFIED:20260316T153205Z
UID:10001051-1804118400-1804204799@sageracademy.com
SUMMARY:Pizza Day!
DESCRIPTION:
URL:https://sageracademy.com/event/pizza-day-12/2027-03-04/
END:VEVENT
BEGIN:VEVENT
DTSTART;TZID=America/Chicago:20270304T080500
DTEND;TZID=America/Chicago:20270304T083000
DTSTAMP:20260422T165738
CREATED:20260316T155458Z
LAST-MODIFIED:20260316T155503Z
UID:10001061-1804147500-1804149000@sageracademy.com
SUMMARY:Lower School Parent Chapel @CCF
DESCRIPTION:
URL:https://sageracademy.com/event/lower-school-parent-chapel-ccf-17/2027-03-04/
END:VEVENT
BEGIN:VEVENT
DTSTART;TZID=America/Chicago:20270304T130000
DTEND;TZID=America/Chicago:20270304T143000
DTSTAMP:20260422T165738
CREATED:20260316T162435Z
LAST-MODIFIED:20260316T162440Z
UID:10001072-1804165200-1804170600@sageracademy.com
SUMMARY:LS Teacher Meeting @CCF
DESCRIPTION:
URL:https://sageracademy.com/event/ls-teacher-meeting-ccf/2027-03-04/
END:VEVENT
BEGIN:VEVENT
DTSTART;TZID=America/Chicago:20270401T000000
DTEND;TZID=America/Chicago:20270401T235959
DTSTAMP:20260422T165738
CREATED:20260316T153159Z
LAST-MODIFIED:20260316T153205Z
UID:10001052-1806537600-1806623999@sageracademy.com
SUMMARY:Pizza Day!
DESCRIPTION:
URL:https://sageracademy.com/event/pizza-day-12/2027-04-01/
END:VEVENT
BEGIN:VEVENT
DTSTART;TZID=America/Chicago:20270401T080500
DTEND;TZID=America/Chicago:20270401T083000
DTSTAMP:20260422T165738
CREATED:20260316T155458Z
LAST-MODIFIED:20260316T155503Z
UID:10001062-1806566700-1806568200@sageracademy.com
SUMMARY:Lower School Parent Chapel @CCF
DESCRIPTION:
URL:https://sageracademy.com/event/lower-school-parent-chapel-ccf-17/2027-04-01/
END:VEVENT
BEGIN:VEVENT
DTSTART;TZID=America/Chicago:20270401T130000
DTEND;TZID=America/Chicago:20270401T143000
DTSTAMP:20260422T165738
CREATED:20260316T162435Z
LAST-MODIFIED:20260316T162440Z
UID:10001073-1806584400-1806589800@sageracademy.com
SUMMARY:LS Teacher Meeting @CCF
DESCRIPTION:
URL:https://sageracademy.com/event/ls-teacher-meeting-ccf/2027-04-01/
END:VEVENT
BEGIN:VEVENT
DTSTART;TZID=America/Chicago:20270406T150000
DTEND;TZID=America/Chicago:20270406T163000
DTSTAMP:20260422T165738
CREATED:20260316T152432Z
LAST-MODIFIED:20260316T152438Z
UID:10001043-1807023600-1807029000@sageracademy.com
SUMMARY:US Teacher Meeting
DESCRIPTION:
URL:https://sageracademy.com/event/us-teacher-meeting-3/2027-04-06/
END:VEVENT
BEGIN:VEVENT
DTSTART;TZID=America/Chicago:20270504T150000
DTEND;TZID=America/Chicago:20270504T163000
DTSTAMP:20260422T165738
CREATED:20260316T152432Z
LAST-MODIFIED:20260316T152438Z
UID:10001044-1809442800-1809448200@sageracademy.com
SUMMARY:US Teacher Meeting
DESCRIPTION:
URL:https://sageracademy.com/event/us-teacher-meeting-3/2027-05-04/
END:VEVENT
BEGIN:VEVENT
DTSTART;TZID=America/Chicago:20270506T000000
DTEND;TZID=America/Chicago:20270506T235959
DTSTAMP:20260422T165738
CREATED:20260316T153159Z
LAST-MODIFIED:20260316T153205Z
UID:10001053-1809561600-1809647999@sageracademy.com
SUMMARY:Pizza Day!
DESCRIPTION:
URL:https://sageracademy.com/event/pizza-day-12/2027-05-06/
END:VEVENT
BEGIN:VEVENT
DTSTART;TZID=America/Chicago:20270506T080500
DTEND;TZID=America/Chicago:20270506T083000
DTSTAMP:20260422T165738
CREATED:20260316T155458Z
LAST-MODIFIED:20260316T155503Z
UID:10001063-1809590700-1809592200@sageracademy.com
SUMMARY:Lower School Parent Chapel @CCF
DESCRIPTION:
URL:https://sageracademy.com/event/lower-school-parent-chapel-ccf-17/2027-05-06/
END:VEVENT
BEGIN:VEVENT
DTSTART;TZID=America/Chicago:20270506T130000
DTEND;TZID=America/Chicago:20270506T143000
DTSTAMP:20260422T165738
CREATED:20260316T162435Z
LAST-MODIFIED:20260316T162440Z
UID:10001074-1809608400-1809613800@sageracademy.com
SUMMARY:LS Teacher Meeting @CCF
DESCRIPTION:
URL:https://sageracademy.com/event/ls-teacher-meeting-ccf/2027-05-06/
END:VEVENT
END:VCALENDAR