BEGIN:VCALENDAR
VERSION:2.0
PRODID:-//Sager Classical Academy - ECPv6.15.20//NONSGML v1.0//EN
CALSCALE:GREGORIAN
METHOD:PUBLISH
X-WR-CALNAME:Sager Classical Academy
X-ORIGINAL-URL:https://sageracademy.com
X-WR-CALDESC:Events for Sager Classical Academy
REFRESH-INTERVAL;VALUE=DURATION:PT1H
X-Robots-Tag:noindex
X-PUBLISHED-TTL:PT1H
BEGIN:VTIMEZONE
TZID:America/Chicago
BEGIN:DAYLIGHT
TZOFFSETFROM:-0600
TZOFFSETTO:-0500
TZNAME:CDT
DTSTART:20250309T080000
END:DAYLIGHT
BEGIN:STANDARD
TZOFFSETFROM:-0500
TZOFFSETTO:-0600
TZNAME:CST
DTSTART:20251102T070000
END:STANDARD
BEGIN:DAYLIGHT
TZOFFSETFROM:-0600
TZOFFSETTO:-0500
TZNAME:CDT
DTSTART:20260308T080000
END:DAYLIGHT
BEGIN:STANDARD
TZOFFSETFROM:-0500
TZOFFSETTO:-0600
TZNAME:CST
DTSTART:20261101T070000
END:STANDARD
BEGIN:DAYLIGHT
TZOFFSETFROM:-0600
TZOFFSETTO:-0500
TZNAME:CDT
DTSTART:20270314T080000
END:DAYLIGHT
BEGIN:STANDARD
TZOFFSETFROM:-0500
TZOFFSETTO:-0600
TZNAME:CST
DTSTART:20271107T070000
END:STANDARD
END:VTIMEZONE
BEGIN:VEVENT
DTSTART;TZID=America/Chicago:20261203T130000
DTEND;TZID=America/Chicago:20261203T143000
DTSTAMP:20260422T170057
CREATED:20260316T162435Z
LAST-MODIFIED:20260316T162440Z
UID:10001069-1796302800-1796308200@sageracademy.com
SUMMARY:LS Teacher Meeting @CCF
DESCRIPTION:
URL:https://sageracademy.com/event/ls-teacher-meeting-ccf/2026-12-03/
END:VEVENT
BEGIN:VEVENT
DTSTART;TZID=America/Chicago:20261203T080500
DTEND;TZID=America/Chicago:20261203T083000
DTSTAMP:20260422T170057
CREATED:20260316T155458Z
LAST-MODIFIED:20260316T155503Z
UID:10001058-1796285100-1796286600@sageracademy.com
SUMMARY:Lower School Parent Chapel @CCF
DESCRIPTION:
URL:https://sageracademy.com/event/lower-school-parent-chapel-ccf-17/2026-12-03/
END:VEVENT
BEGIN:VEVENT
DTSTART;TZID=America/Chicago:20261203T000000
DTEND;TZID=America/Chicago:20261203T235959
DTSTAMP:20260422T170057
CREATED:20260316T153159Z
LAST-MODIFIED:20260316T153205Z
UID:10001048-1796256000-1796342399@sageracademy.com
SUMMARY:Pizza Day!
DESCRIPTION:
URL:https://sageracademy.com/event/pizza-day-12/2026-12-03/
END:VEVENT
BEGIN:VEVENT
DTSTART;TZID=America/Chicago:20261201T150000
DTEND;TZID=America/Chicago:20261201T163000
DTSTAMP:20260422T170057
CREATED:20260316T152432Z
LAST-MODIFIED:20260316T152438Z
UID:10001039-1796137200-1796142600@sageracademy.com
SUMMARY:US Teacher Meeting
DESCRIPTION:
URL:https://sageracademy.com/event/us-teacher-meeting-3/2026-12-01/
END:VEVENT
BEGIN:VEVENT
DTSTART;TZID=America/Chicago:20261105T130000
DTEND;TZID=America/Chicago:20261105T143000
DTSTAMP:20260422T170057
CREATED:20260316T162435Z
LAST-MODIFIED:20260316T162440Z
UID:10001068-1793883600-1793889000@sageracademy.com
SUMMARY:LS Teacher Meeting @CCF
DESCRIPTION:
URL:https://sageracademy.com/event/ls-teacher-meeting-ccf/2026-11-05/
END:VEVENT
BEGIN:VEVENT
DTSTART;TZID=America/Chicago:20261105T080500
DTEND;TZID=America/Chicago:20261105T083000
DTSTAMP:20260422T170057
CREATED:20260316T155458Z
LAST-MODIFIED:20260316T155503Z
UID:10001057-1793865900-1793867400@sageracademy.com
SUMMARY:Lower School Parent Chapel @CCF
DESCRIPTION:
URL:https://sageracademy.com/event/lower-school-parent-chapel-ccf-17/2026-11-05/
END:VEVENT
BEGIN:VEVENT
DTSTART;TZID=America/Chicago:20261105T000000
DTEND;TZID=America/Chicago:20261105T235959
DTSTAMP:20260422T170057
CREATED:20260316T153159Z
LAST-MODIFIED:20260316T153205Z
UID:10001047-1793836800-1793923199@sageracademy.com
SUMMARY:Pizza Day!
DESCRIPTION:
URL:https://sageracademy.com/event/pizza-day-12/2026-11-05/
END:VEVENT
BEGIN:VEVENT
DTSTART;TZID=America/Chicago:20261103T150000
DTEND;TZID=America/Chicago:20261103T163000
DTSTAMP:20260422T170057
CREATED:20260316T152432Z
LAST-MODIFIED:20260316T152438Z
UID:10001038-1793718000-1793723400@sageracademy.com
SUMMARY:US Teacher Meeting
DESCRIPTION:
URL:https://sageracademy.com/event/us-teacher-meeting-3/2026-11-03/
END:VEVENT
BEGIN:VEVENT
DTSTART;TZID=America/Chicago:20261006T150000
DTEND;TZID=America/Chicago:20261006T163000
DTSTAMP:20260422T170057
CREATED:20260316T152432Z
LAST-MODIFIED:20260316T152438Z
UID:10001037-1791298800-1791304200@sageracademy.com
SUMMARY:US Teacher Meeting
DESCRIPTION:
URL:https://sageracademy.com/event/us-teacher-meeting-3/2026-10-06/
END:VEVENT
BEGIN:VEVENT
DTSTART;TZID=America/Chicago:20261003T090000
DTEND;TZID=America/Chicago:20261003T170000
DTSTAMP:20260422T170057
CREATED:20260316T163630Z
LAST-MODIFIED:20260316T163635Z
UID:10001077-1791018000-1791046800@sageracademy.com
SUMMARY:Homegrown Festival-SCA booth
DESCRIPTION:
URL:https://sageracademy.com/event/homegrown-festival-sca-booth/
END:VEVENT
BEGIN:VEVENT
DTSTART;TZID=America/Chicago:20261001T130000
DTEND;TZID=America/Chicago:20261001T143000
DTSTAMP:20260422T170057
CREATED:20260316T162435Z
LAST-MODIFIED:20260316T162440Z
UID:10001067-1790859600-1790865000@sageracademy.com
SUMMARY:LS Teacher Meeting @CCF
DESCRIPTION:
URL:https://sageracademy.com/event/ls-teacher-meeting-ccf/2026-10-01/
END:VEVENT
BEGIN:VEVENT
DTSTART;TZID=America/Chicago:20261001T080500
DTEND;TZID=America/Chicago:20261001T083000
DTSTAMP:20260422T170057
CREATED:20260316T155458Z
LAST-MODIFIED:20260316T155503Z
UID:10001056-1790841900-1790843400@sageracademy.com
SUMMARY:Lower School Parent Chapel @CCF
DESCRIPTION:
URL:https://sageracademy.com/event/lower-school-parent-chapel-ccf-17/2026-10-01/
END:VEVENT
BEGIN:VEVENT
DTSTART;TZID=America/Chicago:20261001T000000
DTEND;TZID=America/Chicago:20261001T235959
DTSTAMP:20260422T170057
CREATED:20260316T153159Z
LAST-MODIFIED:20260316T153205Z
UID:10001046-1790812800-1790899199@sageracademy.com
SUMMARY:Pizza Day!
DESCRIPTION:
URL:https://sageracademy.com/event/pizza-day-12/2026-10-01/
END:VEVENT
BEGIN:VEVENT
DTSTART;TZID=America/Chicago:20260907T000000
DTEND;TZID=America/Chicago:20260907T235959
DTSTAMP:20260422T170057
CREATED:20260316T163104Z
LAST-MODIFIED:20260316T163109Z
UID:10001076-1788739200-1788825599@sageracademy.com
SUMMARY:Labor Day-No Classes
DESCRIPTION:
URL:https://sageracademy.com/event/labor-day-no-classes-3/
END:VEVENT
BEGIN:VEVENT
DTSTART;TZID=America/Chicago:20260903T130000
DTEND;TZID=America/Chicago:20260903T143000
DTSTAMP:20260422T170057
CREATED:20260316T162435Z
LAST-MODIFIED:20260316T162440Z
UID:10001066-1788440400-1788445800@sageracademy.com
SUMMARY:LS Teacher Meeting @CCF
DESCRIPTION:
URL:https://sageracademy.com/event/ls-teacher-meeting-ccf/2026-09-03/
END:VEVENT
BEGIN:VEVENT
DTSTART;TZID=America/Chicago:20260903T080500
DTEND;TZID=America/Chicago:20260903T083000
DTSTAMP:20260422T170057
CREATED:20260316T155201Z
LAST-MODIFIED:20260316T155207Z
UID:10001055-1788422700-1788424200@sageracademy.com
SUMMARY:Lower School Parent Chapel @CCF
DESCRIPTION:
URL:https://sageracademy.com/event/lower-school-parent-chapel-ccf-16/
END:VEVENT
BEGIN:VEVENT
DTSTART;TZID=America/Chicago:20260903T000000
DTEND;TZID=America/Chicago:20260903T235959
DTSTAMP:20260422T170057
CREATED:20260316T153159Z
LAST-MODIFIED:20260316T153205Z
UID:10001045-1788393600-1788479999@sageracademy.com
SUMMARY:Pizza Day!
DESCRIPTION:
URL:https://sageracademy.com/event/pizza-day-12/2026-09-03/
END:VEVENT
BEGIN:VEVENT
DTSTART;TZID=America/Chicago:20260901T150000
DTEND;TZID=America/Chicago:20260901T163000
DTSTAMP:20260422T170057
CREATED:20260316T152432Z
LAST-MODIFIED:20260316T152438Z
UID:10001036-1788274800-1788280200@sageracademy.com
SUMMARY:US Teacher Meeting
DESCRIPTION:
URL:https://sageracademy.com/event/us-teacher-meeting-3/2026-09-01/
END:VEVENT
BEGIN:VEVENT
DTSTART;TZID=America/Chicago:20260820T110000
DTEND;TZID=America/Chicago:20260820T121500
DTSTAMP:20260422T170057
CREATED:20260316T151039Z
LAST-MODIFIED:20260316T151046Z
UID:10001035-1787223600-1787228100@sageracademy.com
SUMMARY:Make-up Session for Mandatory Parent Orientation @ CCF
DESCRIPTION:In the small chapel
URL:https://sageracademy.com/event/make-up-session-for-mandatory-parent-orientation-ccf-3/
END:VEVENT
BEGIN:VEVENT
DTSTART;TZID=America/Chicago:20260819T000000
DTEND;TZID=America/Chicago:20260819T235959
DTSTAMP:20260422T170057
CREATED:20260316T145420Z
LAST-MODIFIED:20260316T145426Z
UID:10001034-1787097600-1787183999@sageracademy.com
SUMMARY:First Day of School!
DESCRIPTION:Upper School drop off: 7:40-7:55 am; Lower School drop off: 7:45-8:00 am
URL:https://sageracademy.com/event/first-day-of-school-3/
END:VEVENT
BEGIN:VEVENT
DTSTART;TZID=America/Chicago:20260817T190000
DTEND;TZID=America/Chicago:20260817T203000
DTSTAMP:20260422T170057
CREATED:20260316T145054Z
LAST-MODIFIED:20260316T145059Z
UID:10001033-1786993200-1786998600@sageracademy.com
SUMMARY:Upper School Family Night-all students & parents
DESCRIPTION:Will take place at our Upper School campus: 1405 W Jefferson Street\, Siloam Springs
URL:https://sageracademy.com/event/upper-school-family-night-all-students-parents/
END:VEVENT
BEGIN:VEVENT
DTSTART;TZID=America/Chicago:20260817T170000
DTEND;TZID=America/Chicago:20260817T183000
DTSTAMP:20260422T170057
CREATED:20260316T144857Z
LAST-MODIFIED:20260316T144903Z
UID:10001032-1786986000-1786991400@sageracademy.com
SUMMARY:Lower School Family Night: Open House @ CCF
DESCRIPTION:
URL:https://sageracademy.com/event/lower-school-family-night-open-house-ccf-2/
END:VEVENT
BEGIN:VEVENT
DTSTART;TZID=America/Chicago:20260814T080000
DTEND;TZID=America/Chicago:20260814T123000
DTSTAMP:20260422T170057
CREATED:20260316T144442Z
LAST-MODIFIED:20260316T150725Z
UID:10001030-1786694400-1786710600@sageracademy.com
SUMMARY:All Staff Professional Development-No classes
DESCRIPTION:
URL:https://sageracademy.com/event/professional-development-no-classes-2/2026-08-14/
END:VEVENT
BEGIN:VEVENT
DTSTART;TZID=America/Chicago:20260813T183000
DTEND;TZID=America/Chicago:20260813T200000
DTSTAMP:20260422T170057
CREATED:20260316T144705Z
LAST-MODIFIED:20260316T150821Z
UID:10001031-1786645800-1786651200@sageracademy.com
SUMMARY:Mandatory All Parent Orientation-no students
DESCRIPTION:Will take place at our Upper School campus: 1405 W Jefferson Street\, Siloam Springs
URL:https://sageracademy.com/event/mandatory-parent-orientation-no-students/
END:VEVENT
BEGIN:VEVENT
DTSTART;TZID=America/Chicago:20260813T080000
DTEND;TZID=America/Chicago:20260813T123000
DTSTAMP:20260422T170057
CREATED:20260316T144442Z
LAST-MODIFIED:20260316T150725Z
UID:10001029-1786608000-1786624200@sageracademy.com
SUMMARY:All Staff Professional Development-No classes
DESCRIPTION:
URL:https://sageracademy.com/event/professional-development-no-classes-2/2026-08-13/
END:VEVENT
BEGIN:VEVENT
DTSTART;TZID=America/Chicago:20260812T080000
DTEND;TZID=America/Chicago:20260812T123000
DTSTAMP:20260422T170057
CREATED:20260316T144442Z
LAST-MODIFIED:20260316T150725Z
UID:10001028-1786521600-1786537800@sageracademy.com
SUMMARY:All Staff Professional Development-No classes
DESCRIPTION:
URL:https://sageracademy.com/event/professional-development-no-classes-2/2026-08-12/
END:VEVENT
BEGIN:VEVENT
DTSTART;TZID=America/Chicago:20260811T080000
DTEND;TZID=America/Chicago:20260811T123000
DTSTAMP:20260422T170057
CREATED:20260316T144442Z
LAST-MODIFIED:20260316T150725Z
UID:10001027-1786435200-1786451400@sageracademy.com
SUMMARY:All Staff Professional Development-No classes
DESCRIPTION:
URL:https://sageracademy.com/event/professional-development-no-classes-2/2026-08-11/
END:VEVENT
BEGIN:VEVENT
DTSTART;TZID=America/Chicago:20260810T080000
DTEND;TZID=America/Chicago:20260810T160000
DTSTAMP:20260422T170057
CREATED:20260316T144251Z
LAST-MODIFIED:20260316T150641Z
UID:10001026-1786348800-1786377600@sageracademy.com
SUMMARY:New Hire Professional Development-No classes
DESCRIPTION:
URL:https://sageracademy.com/event/new-hire-professional-development/
END:VEVENT
BEGIN:VEVENT
DTSTART;TZID=America/Chicago:20260514T180000
DTEND;TZID=America/Chicago:20260514T200000
DTSTAMP:20260422T170057
CREATED:20250528T192748Z
LAST-MODIFIED:20250528T192750Z
UID:10000939-1778781600-1778788800@sageracademy.com
SUMMARY:SCA High School Graduation @new SCA US campus
DESCRIPTION:1405 W Jefferson Street\, Siloam Springs\, AR
URL:https://sageracademy.com/event/sca-high-school-graduation-new-sca-us-campus/
END:VEVENT
BEGIN:VEVENT
DTSTART;TZID=America/Chicago:20260514T080000
DTEND;TZID=America/Chicago:20260514T123000
DTSTAMP:20260422T170057
CREATED:20250528T192240Z
LAST-MODIFIED:20250529T213421Z
UID:10000938-1778745600-1778761800@sageracademy.com
SUMMARY:Staff Professional Development (no classes) @CCF
DESCRIPTION:
URL:https://sageracademy.com/event/staff-professional-development-no-classes/
END:VEVENT
END:VCALENDAR